{"text_format":"1","workbook":"xlsx","n_sheets":7,"sheets":["Dashboard","Subscriptions","MembershipCard","Report","Shop Sales","Sheet1","Role"],"not_rendered":{"charts":0,"images":4,"macros":1,"external_links":0,"defined_names":3,"comments":0,"pivot_tables":0},"unopened":[],"bounds":{"document_bytes":16777216,"sheet_cells":100000,"rows_first":2000,"rows_last":500,"rows_between":2000,"halvings":0,"cell_chars":16384,"cell_head_chars":4096},"cells_cut":0,"cells_raw":0,"read":"whole","date_system":"1900"}

{"sheet":"Dashboard","index":0,"n_rows":118,"n_cols":24,"rows_kept":118,"cut":false,"hidden":false,"merged":[]}
[null,null,null,null,null,"RGJRA (SEK) Membership Manager"]
[null,null,null,null,null,null,null,null,null,null,null,"Associate:",{"$f":"COUNTIF(F23:F550,\"Associate Member\")","v":5}," 2019 Fully Paid Members:",{"$f":"COUNTIF(Subscriptions!D16:D515,5)","v":1}]
[null,null,null,null,null,null,null,null,null,null,null,"Honorary:",{"$f":"COUNTIF(F23:F550,\"Honorary Member\")","v":3},"2020 Fully Paid Members:",{"$f":"COUNTIF(Subscriptions!E16:E515,10)","v":44}]
[null,null,null,null,null,null,null,null,null,null,null,"Total Members:",{"$f":"MAX(G23:G550)","v":96},"2021 Fully Paid Members:",{"$f":"COUNTIF(Subscriptions!F16:F515,10)","v":1}]
[null,null,null,null,null,null,null,null,null,null,null,null,null,"2022 Fully Paid Members:",{"$f":"COUNTIF(Subscriptions!G16:G515,10)","v":0}]
["Select Row",24,null,null,null,null,null,null,null,null,null,null,null,"2023 Fully Paid Members:",{"$f":"COUNTIF(Subscriptions!H16:H515,10)","v":0}]
["New Memb",false]
["Memb Load",false]
[]
[null,null,null,null,null,"Member  Name:","Glenn Ternent BEM",null,"Address:","159 Canterbury Road, Westgate",null,"Mobile:","07598 706557",null,null,null,"Member  Name:",5,null,"Address:",8,null,"Mobile:",12]
[]
[null,null,null,null,null,"Role:","Member",null,"Town:","Margate",null,"Home Tel:","07598 706557",null,null,null,"Role:",6,null,"Town:",9,null,"Home Tel:",13]
[]
[null,null,null,null,null,"Member Number:",2,null,"County:","Kent",null," Email:","geordie-t@btinternet.com",null,null,null,"Member Number:",7,null,"County:",10,null," Email:",14]
[]
[null,null,null,null,null,null,null,null,"Post Code:","CT9 5BY",null,"RGJRA Email:","glenn.ternent@rgjrasoutheastkkent.org",null,null,null,null,null,null,"Post Code:",11,null,"RGJRA Email:",15]
[null,null,null,null,null,null,null,null,null,null,null,null,null,null,null,null,null,{"$f":"COLUMN()","v":18}]
[]
[]
[null,null,null,null,{"$f":"COLUMN()","v":5},{"$f":"COLUMN()","v":6},{"$f":"COLUMN()","v":7},{"$f":"COLUMN()","v":8},{"$f":"COLUMN()","v":9},{"$f":"COLUMN()","v":10},{"$f":"COLUMN()","v":11},{"$f":"COLUMN()","v":12},{"$f":"COLUMN()","v":13},{"$f":"COLUMN()","v":14},{"$f":"COLUMN()","v":15}]
[null,null,null,null,"G10","G12","G14","J10","J12","J14","J16","M10","M12","M14","M16"]
[null,null,null,null,"Member Name","Role","Membership Number","Address","Town","County","Post Code","Mobile","Home Tel","Email","RGJRA Email"]
[null,null,null,null,"Fred Barrett","President",1,"10 Dryden Road","Dover","Kent","CT16 2BX","07860 591868","07860 591868","fjmbblb@hotmail.com","fred.barrett@rgjrasoutheastkkent.org"]
[null,null,null,null,"Glenn Ternent BEM","Member",2,"159 Canterbury Road, Westgate","Margate","Kent","CT9 5BY","07598 706557","07598 706557","geordie-t@btinternet.com","glenn.ternent@rgjrasoutheastkkent.org"]
[null,null,null,null,"Robert Newman","Member",3,"58 Tivoli Park Avenue","Margate","Kent"," CT9 5TH","07411 517908","07411 517908","bobrnewman59@gmail.com","robert.newman@rgjrasoutheastkkent.org"]
[null,null,null,null,"The Rev. Sean Sheffield","Padre",4,null,null,null,null,"07710 423432"," "," "]
[null,null,null,null,"Tony Killelay","Treasurer",5,"6a Bewsbury Cresent, Whitfield","Dover","Kent","CT16 3ET","07429 630725","07429 630725","tonykillelay@yahoo.co.uk","tony.killelay@rgjrasoutheastkkent.org"]
[null,null,null,null,"George Nash","Entertainments",6,"11 Queens Avenue","Dover","Kent","CT17 9PU","07517 344853","07517 344853","george.nash1945@hotmail.co.uk","george.nash@rgjrasoutheastkkent.org"]
[null,null,null,null,"Gary Howe","Membership Coord",7,"16 Hazel Close ","Eythorne ","Kent","CT15 4DA","07591417956","07591417956","garyjhowe@btinternet.com","gary.howe@rgjrasoutheastkkent.org"]
[null,null,null,null,"Peter Thomson","Secretary",8,"3 Jointon Road","Folkestone","Kent","CT20 2RF","07411 081018","07411 081018","peterthomson8087@gmail.com","peter.thomson@rgjrasoutheastkkent.org"]
[null,null,null,null,"Tommy Love","DDC Memorials/Remembrance",9,"Flat 13 Eleanor Court, Dofras Place","Dover","Kent","CT16 1TH",null,null,"tommyheather29@hotmail.co.uk","tommy.love@rgjrasoutheastkkent.org"]
[null,null,null,null,"Ray Seabrook","SSAFFA",10,"48 Peregrine Close","Hythe","Kent","CT21 6QZ","07762 353937","07762 353937","swiftandbold764@hotmail.co.uk","ray.seabrook@rgjrasoutheastkkent.org"]
[null,null,null,null,"Christopher Clifford","Member",11,"Flat 3 Eleanor Court, Dofras Place"," Dover","Kent","CT16 1TY","07914 767103","07914 767103","chrissumo123@aol.com"]
[null,null,null,null,"Christopher Crosby","Member",12,"13 Falcon Street","Colchester","Essex","CO1 2HR","07773 205572","07773 205572","christopher.crosby1@ntlworld.com"]
[null,null,null,null,"Danny Dowling","Member",13,"68 Beauxfield, Whitfield","Dover","Kent","CT16 3JH","079358 33332","079358 33332","daniel.dowling2@outlook.com"]
[null,null,null,null,"Patrick Edwards","Member",14,"153 Heathfield","Dover","Kent","CT16 2PD","07973 453765","07973 453765"]
[null,null,null,null,"Brian Farndell","Member",15,"29 Fifth Street, Fratton","Portsmouth","Hampshire","PO1 5NA",null,null,"brian.farndell4@ntlworld.com"]
[null,null,null,null,"Syd Hopgood","Member",16,"24 Carlton Close","Shrewsbury","Shropshire","SY3 5JA",null,null,"sydhopgood@btinternet.com"]
[null,null,null,null,"Kenneth Houlker","Member",17,"42 Singledge Lane, Westfield","Dover ","Kent","CT16 3EJ",null,null,"houlker@ntlworld.com"]
[null,null,null,null,"Dave Ivatt","Chairman",18,"3 Palmer Road","Wingham","Kent","CT3 1BS","07710 212106","07710 212106","ivattrgj@aol.com"]
[null,null,null,null,"Kevin James","Member",19,"c/o 49 Barton Road","Dover","Kent","CT16 2GH","07954 191215","07954 191215","kevwjames@hotmail.co.uk"]
[null,null,null,null,"David Knowles","Member",20,"86 Ardent Road, Whitfield","Dover","Kent","CT16 2GH","07707 328031","07707 328031","davidknowles183@yahoo.com"]
[null,null,null,null,"Tony Milner","Member",21,"26 St.Davids Avenue, Aycliffe Estate","Dover","Kent","CT17 9HU","075441870491","075441870491"]
[null,null,null,null,"Steve Milsom","Member",22,"26 Friars Way","Dover","Kent","CT16 2DW","07748 544621","07748 544621","stevergj@aol.com"]
[null,null,null,null,"Winston Ng A Mann","Member",23,"51 Merton Road","Reading","Berkshire","RG2 8AX","07547 424346","07547 424346","winston.ngamann17@gmail.com"]
[null,null,null,null,"Andy Redman","Member",24,"14 Eldred Road","Dover","Kent","CT17 0BU","07796 238971","07796 238971","rfn1@hotmail.co.uk"]
[null,null,null,null,"Alan Stow","Member",25,"18 Pilgrims Way","Dover","Kent","CT16 2DF","07833 207606","07833 207606"]
[null,null,null,null,"Dave Timms","Member",26,"5 Alison Close","Dover","Kent","CT16 3LW",null,null,"secretary@rgjband.com"]
[null,null,null,null,"Gary Tingey","Member",27,"34 Napier Road","Dover","Kent","CT16 2HS","07711 993309","07711 993309"]
[null,null,null,null,"Don Whitehead","Member",28,"30 Archers Court Road, Whitfield","Dover","Kent","CT16 3HS","07874 102060","07874 102060","bilko359@btinternet.com"]
[null,null,null,null,"Jason Ridley","Member",29,"25 Goschen Road","Dover","Kent","CT17 0BA","07596 631692","07596 631692","ridders5773@hotmail.co.uk"]
[null,null,null,null,"Brian Avery Smith","Member",30,"4A Rossetti Road","Birchington","Kent","CT7 9EP","07542 774616","07542 774616"]
[null,null,null,null,"James  Barrett","Member",31,"115 Rowan Avenue","Washington",null,"NE38 9AQ",null,null,"barrettkathryn12@aol.com"]
[null,null,null,null,"David Benneyworth","Member",32,"16 Grove Park Avenue","Sittingbourne","Kent","ME10 1YH","01795 435677","01795 435677","db24037001@virginmedia.com"]
[null,null,null,null,"John Cowie","Member",33,"5 Claridon Road, Aylsham","Canterbury","Kent","CT3 3AQ",null,null,"cowie2009@btinternet.com"]
[null,null,null,null,"Neil Paine","Member",34,null,null,null,null,"07899 898645","07899 898645","neil.payne1@ntlworld.com"]
[null,null,null,null,"Simon Jarrams","Member",35,"96 Hillside Road","Dover","Kent","CT17 0JG","07701 077763","07701 077763","chosenman65@live.com"]
[null,null,null,null,"Errol Banks","Member",36,"76 Lydia Road","Deal","Kent","CT14 9JY","07768 875375","07768 875375","e-banks@sky.com"]
[null,null,null,null,"Frances Forest Holden","Member",37,"54 Melbourne Avenue","Dover","Kent","CT16 2HU","07731 310663","07731 310663","fran.forrestholden@hotmail.co.uk"]
[null,null,null,null,"Jemma Henderson","Member",38,"8 Belgrave Road","Dover","Kent","CT17 9QY","07957 734117","07957 734117","jkr270880@yahoo.co.uk"]
[null,null,null,null,"Rodney Gray","Member",39,"9 Woodcock Gardens","Folkestone","Kent","CT18 7NE","07753 192160","07753 192160","rodneyjo@btinternet.com"]
[null,null,null,null,"Kevin Mulvaney","Member",40,"63 Arngask Road,Catford","Greater London","Kent","SE6 1XZ","07963 080058","07963 080058","kjmulvanet@hotmail.com"]
[null,null,null,null,"James McMahon","Member",41,"16 The Abbots","Dover","Kent","CT17 0GA",null,null,"jimmymac1324@hotmail.co.uk"]
[null,null,null,null,"Andrew Dyer","Member",42,"12 Cowper Close","Whitstable","Kent"," CT5 2NS",null,null,"andrew-dyer2@sky.com"]
[null,null,null,null,"Denis Waters","Member",43,"Appartment 5 Two Bridge Close,","Sandwich","Kent","CT13 9QG","07557 950776","07557 950776","denispwaters@googlemail.com"]
[null,null,null,null,"Jeff Chittleburgh","Member",44,"20 St Peters Way","Milton Keynes","Bucks","MK13 0ET",null,null,"jeffchittleburgh@hotmail.com"]
[null,null,null,null,"John Cousins","Member",45,"125 Dymchurch Road,","Hythe","Kent","CT21 6JU"]
[null,null,null,null,"Kevin Arnell","Member",46,"92 South Hill Road, Shortlands ","Bromley","Kent","BR2 0RT","07977996309","07977996309","kaunistate1@btinternet.com"]
[null,null,null,null,"John Harknett","Member",47]
[null,null,null,null,"Paul Axtell","Member",48,"225 Rowland Way","Alesbury","Kent","HP19 7SR","07895083756","07895083756"]
[null,null,null,null,"Shaun Burford","Member",49,"68 Coombe Valley Road","Dover","Kent","CT17 0EX","07867429449","07867429449","sburford87@gmail.com"]
[null,null,null,null,"Stuart Outred","Member",50,"12 Lynwood","Folkstone ","Kent","CT19 5DB","07832956902","07832956902","stuartoutred@googlemail.com"]
[null,null,null,null,"Stuart Stephenson","Member",51,"25 Albert Road","Dover ","Kent","CT16 1RD","07460470678","07460470678"]
[null,null,null,null,"Phil Critchley","Member",52,"Flat 3 20 Gordon Road","Margate","Kent"," CT9 2DN","07771 477284","07771 477284","philcritch53@gmail.com"]
[null,null,null,null,"Ernie Pennock","Member",53,"18a Primrose Road ","Dover","Kent","CT17 0AJ ",null,null,"erniemuriel@hotmail.co.uk"]
[null,null,null,null,"James Mathews","Member",54,"8 Laddock Close","Liverpool","Merseyside","L4 7UW","07557447594","07557447594","jamesmathews74@hotmail.com"]
[null,null,null,null,"Derek Brooks ","Member",55]
[null,null,null,null,"Reg Longhurst","Member",56,"389 Folkestone Road","Dover","Kent","CT17 9JT"]
[null,null,null,null,"Mo Boyton","Member",57,"10 Hawthorn Close","Dover","Kent","CT17 0NG"]
[null,null,null,null,"Steve Ashton","Member",58,"217 Folkstone Road ","Dover","Kent","CT17 9SL","07864 722997","07864 722997","stevea4117u@googlemail.com"]
[null,null,null,null,"Jeffrey Alexander","Associate Member",59,"24 Windmill Road","Sittingbourne",null,"ME10 2NU",null,null,"jeffalex63@yahoo.co.uk"]
[null,null,null,null,"Norman Clark","Associate Member",60,"7 Queens Avenue","Dover",null,"CT17 9PU"]
[null,null,null,null,"Peter Drew","Associate Member",61,"186 Folkestone Road","Dover",null,"CT17 9JA",null,null,"ppdrew4348@gmail.com"]
[null,null,null,null,"Kevin Goodwin","Associate Member",62,"4 Ashley Terrace, Chapel Lane","Dover",null,"CT15 5HU","07891077161","07891077161"]
[null,null,null,null,"Tony Ward","Associate Member",63,"184 Folkestone Road","Dover",null,"CT17 9JA","07733 935685","07733 935685","tonynicky@hotmasil.co.uk"]
[null,null,null,null,"Barbara Barrett","Honorary Member",64,"10 Dryden Road","Dover",null,"CT16 2BX","07894 729392","07894 729392","bl.barrett2060@hotmail.co.uk"]
[null,null,null,null,"Mo Doherty","Honorary Member",65,"Flat 3 Eleanor Court,Dofras Place","Dover",null,"CT16 1TY"]
[null,null,null,null,"Heather Love","Honorary Member",66,"Flat 13 Eleanor Court, Dofras Place","Dover",null,"CT16 1TH","07925 207677","07925 207677","tommyheather29@hotmail.co.uk"]
[null,null,null,null,"John Carter","Member",67,"10 Abbott Road","Dover",null,null,7763450547,7763450547]
[null,null,null,null,"Phil Hacket","Member",68,"Westbury Road","Dover",null,"CT17 9QJ"]
[null,null,null,null,"Aran McGee","Member",69,"Flat 11 Westgate Bay Avenue","Westgate on Sea",null,"CT8 8TA"]
[null,null,null,null,"William Trotter","Member",70,"9 Hyde Court, Clarendon Street","Dover",null,"CT17 9UP"]
[null,null,null,null,"Tony Jones","Member",71]
[null,null,null,null,"Stuart Holland","Member",72]
[null,null,null,null,"William Holland","Member",73]
[null,null,null,null,"Paul Sengelow","Member",74]
[null,null,null,null,"Dave Povah","Member",75,"14 Fern Close","Hawkinge","Kent","CT18 7ED","07940 278743","01303 487149","david[ovah63@hotmail.com"]
[null,null,null,null,"George Banks","Member",76]
[null,null,null,null,"Jerry Lyons","Member",77]
[null,null,null,null,"Jimmy Matthews","Member",78]
[null,null,null,null,"Liam Trevelyan","Member",79]
[null,null,null,null,"John Hartell","Member",80]
[null,null,null,null,"Marc Borley","Member",81,null,null,null,null,"07568 772542",null,"borley68@gmail.com"]
[null,null,null,null,"Daniel Basden","Member",82]
[null,null,null,null,"Billy Field","Member",83,null,"Ashford","Kent"]
[null,null,null,null,"John Clayton","Member",84,"44 Franklin Road","Gillingham","Kent","ME74DF",7958738118,1634307439,"johnvictor49@hotmail.com"]
[null,null,null,null,"Colin Leavers","Member",85,"1 Temple Gardens","Strood","Kent","ME2 2NG",null,null,"Colinleavers@googlemail.com"]
[null,null,null,null,"Robert Griffiths","Member",86,null,"Lydd"]
[null,null,null,null,"John Cleaves","Member",87,"8 Shipmans Way","Dover","Kent","CT16 2DU","07599 261549","01304 827043","cleavo@hotmail.co.uk"]
[null,null,null,null,"Ray Aston","Member",88,"4 Haskard Close","Hawkinge","Kent","CT18 7NB","07788 208228","01303 891397"]
[null,null,null,null,"John Ward","Member",89,"22 Mount Road","Dover","Kent","CT17 9LF",null,null,"portcullis1@aol.com"]
[null,null,null,null,"Simon Brown","Member",90]
[null,null,null,null,"Simon Rose","Member",91]
[null,null,null,null,"Steve Rose","Member",92]
[null,null,null,null,"Shane Stone","Member",93,"The Maltsters cottage, 7 Riverway","Trowbridge","Wiltshire","BA14 8LL",null,null,"shane.4rifles@hotmail.co.uk"]
[null,null,null,null,"Richard Rattigan","Member",94,"1 Gorden Square","Faversham","Kent","ME13 8HL",null,null,"gigaflops69@hotmail.co.uk"]
[null,null,null,null,"Nobby Clark","Member",95,"Paseo de las Americas","SAN Marcos","Santa Cruz de Tenerife",38434,null,null,"nobby@cpemail.co.uk"]
[null,null,null,null,"Peter Bettis","Member",96,"79 Churchbury road","Eltham","London","SE9 5HX",null,null,"peterbettis06@aol.com"]

{"sheet":"Subscriptions","index":1,"n_rows":515,"n_cols":10,"rows_kept":515,"cut":false,"hidden":false,"merged":[]}
[null,null,null,"RGJRA (SEK) Subscription Manager"]
[]
[null,null,null,"Yearly Subscriptin 2019: ",null,5]
[null,null,null,"Yearly Subscriptin 2020: ",null,10]
[]
[null,null,null,null,null,"Total Paid"]
[null,null,null,"Total Subs Paid 2019:",null,{"$f":"SUM(D17:D550)","v":25}]
[null,null,null,"Total Subs Paid 2020:",null,{"$f":"SUM(E17:E2550)","v":460}]
[null,null,null,"Total Subs Paid 2021:",null,{"$f":"SUM(F17:F550)","v":10}]
[null,null,null,"Total Subs Paid 2022:",null,{"$f":"SUM(G17:G550)","v":0}]
[null,null,null,"Total Subs Paid 2023:",null,{"$f":"SUM(H17:H550)","v":0}]
[null,null,null,"Total Subs Paid 2024:",null,{"$f":"SUM(I17:I550)","v":0}]
[null,null,null,"Total Subs Paid 2025:",null,{"$f":"SUM(J17:J550)","v":0}]
[]
[]
[null,"Member","Number",2019,2020,2021,2022,2023,2024,2025]
[null,{"$f":"Dashboard!E23","v":"Fred Barrett"},{"$f":"Dashboard!G23","v":1},0,10,0,0,0,0,0]
[null,{"$f":"Dashboard!E24","v":"Glenn Ternent BEM"},{"$f":"Dashboard!G24","v":2},10,10,0,0,0,0,0]
[null,{"$f":"Dashboard!E25","v":"Robert Newman"},{"$f":"Dashboard!G25","v":3},10,10,0,0,0,0,0]
[null,{"$f":"Dashboard!E26","v":"The Rev. Sean Sheffield"},{"$f":"Dashboard!G26","v":4},0,10,0,0,0,0,0]
[null,{"$f":"Dashboard!E27","v":"Tony Killelay"},{"$f":"Dashboard!G27","v":5},0,10,0,0,0,0,0]
[null,{"$f":"Dashboard!E28","v":"George Nash"},{"$f":"Dashboard!G28","v":6},0,0,0,0,0,0,0]
[null,{"$f":"Dashboard!E29","v":"Gary Howe"},{"$f":"Dashboard!G29","v":7},0,10,0,0,0,0,0]
[null,{"$f":"Dashboard!E30","v":"Peter Thomson"},{"$f":"Dashboard!G30","v":8},null,10,0,0,0,0,0]
[null,{"$f":"Dashboard!E31","v":"Tommy Love"},{"$f":"Dashboard!G31","v":9},0,0,0,0,0,0,0]
[null,{"$f":"Dashboard!E32","v":"Ray Seabrook"},{"$f":"Dashboard!G32","v":10},0,10,0,0,0,0,0]
[null,{"$f":"Dashboard!E33","v":"Christopher Clifford"},{"$f":"Dashboard!G33","v":11},0,10,0,0,0,0,0]
[null,{"$f":"Dashboard!E34","v":"Christopher Crosby"},{"$f":"Dashboard!G34","v":12},0,10,0,0,0,0,0]
[null,{"$f":"Dashboard!E35","v":"Danny Dowling"},{"$f":"Dashboard!G35","v":13},0,5,0,0,0,0,0]
[null,{"$f":"Dashboard!E36","v":"Patrick Edwards"},{"$f":"Dashboard!G36","v":14},0,10,0,0,0,0,0]
[null,{"$f":"Dashboard!E37","v":"Brian Farndell"},{"$f":"Dashboard!G37","v":15},0,10,0,0,0,0,0]
[null,{"$f":"Dashboard!E38","v":"Syd Hopgood"},{"$f":"Dashboard!G38","v":16},0,0,0,0,0,0,0]
[null,{"$f":"Dashboard!E39","v":"Kenneth Houlker"},{"$f":"Dashboard!G39","v":17},0,0,0,0,0,0,0]
[null,{"$f":"Dashboard!E40","v":"Dave Ivatt"},{"$f":"Dashboard!G40","v":18},0,0,0,0,0,0,0]
[null,{"$f":"Dashboard!E41","v":"Kevin James"},{"$f":"Dashboard!G41","v":19},0,0,0,0,0,0,0]
[null,{"$f":"Dashboard!E42","v":"David Knowles"},{"$f":"Dashboard!G42","v":20},0,0,0,0,0,0,0]
[null,{"$f":"Dashboard!E43","v":"Tony Milner"},{"$f":"Dashboard!G43","v":21},0,0,0,0,0,0,0]
[null,{"$f":"Dashboard!E44","v":"Steve Milsom"},{"$f":"Dashboard!G44","v":22},0,0,0,0,0,0,0]
[null,{"$f":"Dashboard!E45","v":"Winston Ng A Mann"},{"$f":"Dashboard!G45","v":23},0,5,0,0,0,0,0]
[null,{"$f":"Dashboard!E46","v":"Andy Redman"},{"$f":"Dashboard!G46","v":24},0,10,0,0,0,0,0]
[null,{"$f":"Dashboard!E47","v":"Alan Stow"},{"$f":"Dashboard!G47","v":25},0,0,0,0,0,0,0]
[null,{"$f":"Dashboard!E48","v":"Dave Timms"},{"$f":"Dashboard!G48","v":26},0,0,0,0,0,0,0]
[null,{"$f":"Dashboard!E49","v":"Gary Tingey"},{"$f":"Dashboard!G49","v":27},0,0,0,0,0,0,0]
[null,{"$f":"Dashboard!E50","v":"Don Whitehead"},{"$f":"Dashboard!G50","v":28},0,10,0,0,0,0,0]
[null,{"$f":"Dashboard!E51","v":"Jason Ridley"},{"$f":"Dashboard!G51","v":29},0,10,0,0,0,0,0]
[null,{"$f":"Dashboard!E52","v":"Brian Avery Smith"},{"$f":"Dashboard!G52","v":30},0,5,0,0,0,0,0]
[null,{"$f":"Dashboard!E53","v":"James  Barrett"},{"$f":"Dashboard!G53","v":31},0,10,0,0,0,0,0]
[null,{"$f":"Dashboard!E54","v":"David Benneyworth"},{"$f":"Dashboard!G54","v":32},0,10,0,0,0,0,0]
[null,{"$f":"Dashboard!E55","v":"John Cowie"},{"$f":"Dashboard!G55","v":33},0,0,0,0,0,0,0]
[null,{"$f":"Dashboard!E56","v":"Neil Paine"},{"$f":"Dashboard!G56","v":34},0,0,0,0,0,0,0]
[null,{"$f":"Dashboard!E57","v":"Simon Jarrams"},{"$f":"Dashboard!G57","v":35},0,10,0,0,0,0,0]
[null,{"$f":"Dashboard!E58","v":"Errol Banks"},{"$f":"Dashboard!G58","v":36},0,0,0,0,0,0,0]
[null,{"$f":"Dashboard!E59","v":"Frances Forest Holden"},{"$f":"Dashboard!G59","v":37},0,0,0,0,0,0,0]
[null,{"$f":"Dashboard!E60","v":"Jemma Henderson"},{"$f":"Dashboard!G60","v":38},0,10,0,0,0,0,0]
[null,{"$f":"Dashboard!E61","v":"Rodney Gray"},{"$f":"Dashboard!G61","v":39},0,0,0,0,0,0,0]
[null,{"$f":"Dashboard!E62","v":"Kevin Mulvaney"},{"$f":"Dashboard!G62","v":40},0,0,0,0,0,0,0]
[null,{"$f":"Dashboard!E63","v":"James McMahon"},{"$f":"Dashboard!G63","v":41},0,10,0,0,0,0,0]
[null,{"$f":"Dashboard!E64","v":"Andrew Dyer"},{"$f":"Dashboard!G64","v":42},0,0,0,0,0,0,0]
[null,{"$f":"Dashboard!E65","v":"Denis Waters"},{"$f":"Dashboard!G65","v":43},0,0,0,0,0,0,0]
[null,"Jeff Chittleburgh",{"$f":"Dashboard!G66","v":44},0,10,0,0,0,0,0]
[null,{"$f":"Dashboard!E67","v":"John Cousins"},{"$f":"Dashboard!G67","v":45},0,10,0,0,0,0,0]
[null,{"$f":"Dashboard!E68","v":"Kevin Arnell"},{"$f":"Dashboard!G68","v":46},0,0,0,0,0,0,0]
[null,{"$f":"Dashboard!E69","v":"John Harknett"},{"$f":"Dashboard!G69","v":47},0,10,0,0,0,0,0]
[null,{"$f":"Dashboard!E70","v":"Paul Axtell"},{"$f":"Dashboard!G70","v":48},0,0,0,0,0,0,0]
[null,{"$f":"Dashboard!E71","v":"Shaun Burford"},{"$f":"Dashboard!G71","v":49},0,10,0,0,0,0,0]
[null,{"$f":"Dashboard!E72","v":"Stuart Outred"},{"$f":"Dashboard!G72","v":50},0,0,0,0,0,0,0]
[null,{"$f":"Dashboard!E73","v":"Stuart Stephenson"},{"$f":"Dashboard!G73","v":51},0,0,0,0,0,0,0]
[null,{"$f":"Dashboard!E74","v":"Phil Critchley"},{"$f":"Dashboard!G74","v":52},0,0,0,0,0,0,0]
[null,{"$f":"Dashboard!E75","v":"Ernie Pennock"},{"$f":"Dashboard!G75","v":53},0,0,0,0,0,0,0]
[null,{"$f":"Dashboard!E76","v":"James Mathews"},{"$f":"Dashboard!G76","v":54},0,0,0,0,0,0,0]
[null,{"$f":"Dashboard!E77","v":"Derek Brooks "},{"$f":"Dashboard!G77","v":55},0,5,0,0,0,0,0]
[null,{"$f":"Dashboard!E78","v":"Reg Longhurst"},{"$f":"Dashboard!G78","v":56},0,0,0,0,0,0,0]
[null,{"$f":"Dashboard!E79","v":"Mo Boyton"},{"$f":"Dashboard!G79","v":57},0,10,0,0,0,0,0]
[null,{"$f":"Dashboard!E80","v":"Steve Ashton"},{"$f":"Dashboard!G80","v":58},0,0,0,0,0,0,0]
[null,{"$f":"Dashboard!E81","v":"Jeffrey Alexander"},{"$f":"Dashboard!G81","v":59},0,0,0,0,0,0,0]
[null,{"$f":"Dashboard!E82","v":"Norman Clark"},{"$f":"Dashboard!G82","v":60},0,0,0,0,0,0,0]
[null,{"$f":"Dashboard!E83","v":"Peter Drew"},{"$f":"Dashboard!G83","v":61},0,0,0,0,0,0,0]
[null,{"$f":"Dashboard!E84","v":"Kevin Goodwin"},{"$f":"Dashboard!G84","v":62},0,10,0,0,0,0,0]
[null,{"$f":"Dashboard!E85","v":"Tony Ward"},{"$f":"Dashboard!G85","v":63},0,0,0,0,0,0,0]
[null,{"$f":"Dashboard!E86","v":"Barbara Barrett"},{"$f":"Dashboard!G86","v":64},0,0,0,0,0,0,0]
[null,{"$f":"Dashboard!E87","v":"Mo Doherty"},{"$f":"Dashboard!G87","v":65},0,0,0,0,0,0,0]
[null,{"$f":"Dashboard!E88","v":"Heather Love"},{"$f":"Dashboard!G88","v":66},0,0,0,0,0,0,0]
[null,{"$f":"Dashboard!E89","v":"John Carter"},{"$f":"Dashboard!G89","v":67},0,10,10,0,0,0,0]
[null,{"$f":"Dashboard!E90","v":"Phil Hacket"},{"$f":"Dashboard!G90","v":68},0,10,0,0,0,0,0]
[null,{"$f":"Dashboard!E91","v":"Aran McGee"},{"$f":"Dashboard!G91","v":69},0,10,0,0,0,0,0]
[null,{"$f":"Dashboard!E92","v":"William Trotter"},{"$f":"Dashboard!G92","v":70},0,0,0,0,0,0,0]
[null,{"$f":"Dashboard!E93","v":"Tony Jones"},{"$f":"Dashboard!G93","v":71},0,10,0,0,0,0,0]
[null,{"$f":"Dashboard!E94","v":"Stuart Holland"},{"$f":"Dashboard!G94","v":72},0,10,0,0,0,0,0]
[null,{"$f":"Dashboard!E95","v":"William Holland"},{"$f":"Dashboard!G95","v":73},0,10,0,0,0,0,0]
[null,{"$f":"Dashboard!E96","v":"Paul Sengelow"},{"$f":"Dashboard!G96","v":74},0,10,0,0,0,0,0]
[null,{"$f":"Dashboard!E97","v":"Dave Povah"},{"$f":"Dashboard!G97","v":75},0,10,0,0,0,0,0]
[null,{"$f":"Dashboard!E98","v":"George Banks"},{"$f":"Dashboard!G98","v":76},0,0,0,0,0,0,0]
[null,{"$f":"Dashboard!E99","v":"Jerry Lyons"},{"$f":"Dashboard!G99","v":77},0,0,0,0,0,0,0]
[null,{"$f":"Dashboard!E100","v":"Jimmy Matthews"},{"$f":"Dashboard!G100","v":78},0,0,0,0,0,0,0]
[null,{"$f":"Dashboard!E101","v":"Liam Trevelyan"},{"$f":"Dashboard!G101","v":79},0,0,0,0,0,0,0]
[null,{"$f":"Dashboard!E102","v":"John Hartell"},{"$f":"Dashboard!G102","v":80},0,0,0,0,0,0,0]
[null,{"$f":"Dashboard!E103","v":"Marc Borley"},{"$f":"Dashboard!G103","v":81},0,10,0,0,0,0,0]
[null,{"$f":"Dashboard!E104","v":"Daniel Basden"},{"$f":"Dashboard!G104","v":82},0,0,0,0,0,0,0]
[null,{"$f":"Dashboard!E105","v":"Billy Field"},{"$f":"Dashboard!G105","v":83},null,10,0,0,0,0,0]
[null,{"$f":"Dashboard!E106","v":"John Clayton"},{"$f":"Dashboard!G106","v":84},0,0,0,0,0,0,0]
[null,{"$f":"Dashboard!E107","v":"Colin Leavers"},{"$f":"Dashboard!G107","v":85},0,10,0,0,0,0,0]
[null,{"$f":"Dashboard!E108","v":"Robert Griffiths"},{"$f":"Dashboard!G108","v":86},0,0,0,0,0,0,0]
[null,{"$f":"Dashboard!E109","v":"John Cleaves"},{"$f":"Dashboard!G109","v":87},0,10,0,0,0,0,0]
[null,{"$f":"Dashboard!E110","v":"Ray Aston"},{"$f":"Dashboard!G110","v":88},0,0,0,0,0,0,0]
[null,{"$f":"Dashboard!E111","v":"John Ward"},{"$f":"Dashboard!G111","v":89},0,10,0,0,0,0,0]
[null,{"$f":"Dashboard!E112","v":"Simon Brown"},{"$f":"Dashboard!G112","v":90},0,10,0,0,0,0,0]
[null,{"$f":"Dashboard!E113","v":"Simon Rose"},{"$f":"Dashboard!G113","v":91},0,10,0,0,0,0,0]
[null,{"$f":"Dashboard!E114","v":"Steve Rose"},{"$f":"Dashboard!G114","v":92},0,0,0,0,0,0,0]
[null,{"$f":"Dashboard!E115","v":"Shane Stone"},{"$f":"Dashboard!G115","v":93},0,10,0,0,0,0,0]
[null,{"$f":"Dashboard!E116","v":"Richard Rattigan"},{"$f":"Dashboard!G116","v":94},0,0,0,0,0,0,0]
[null,{"$f":"Dashboard!E117","v":"Nobby Clark"},{"$f":"Dashboard!G117","v":95},0,10,0,0,0,0,0]
[null,{"$f":"Dashboard!E118","v":"Peter Bettis"},{"$f":"Dashboard!G118","v":96},0,10,0,0,0,0,0]
[null,{"$f":"Dashboard!E119","v":0},{"$f":"Dashboard!G119","v":0},0,0,0,0,0,0,0]
[null,{"$f":"Dashboard!E120","v":0},{"$f":"Dashboard!G120","v":0},0,0,0,0,0,0,0]
[null,{"$f":"Dashboard!E121","v":0},{"$f":"Dashboard!G121","v":0},0,0,0,0,0,0,0]
[null,{"$f":"Dashboard!E122","v":0},{"$f":"Dashboard!G122","v":0},0,0,0,0,0,0,0]
[null,{"$f":"Dashboard!E123","v":0},{"$f":"Dashboard!G123","v":0},0,0,0,0,0,0,0]
[null,{"$f":"Dashboard!E124","v":0},{"$f":"Dashboard!G124","v":0},0,0,0,0,0,0,0]
[null,{"$f":"Dashboard!E125","v":0},{"$f":"Dashboard!G125","v":0},0,0,0,0,0,0,0]
[null,{"$f":"Dashboard!E126","v":0},{"$f":"Dashboard!G126","v":0},0,0,0,0,0,0,0]
[null,{"$f":"Dashboard!E127","v":0},{"$f":"Dashboard!G127","v":0},0,0,0,0,0,0,0]
[null,{"$f":"Dashboard!E128","v":0},{"$f":"Dashboard!G128","v":0},0,0,0,0,0,0,0]
[null,{"$f":"Dashboard!E129","v":0},{"$f":"Dashboard!G129","v":0},0,0,0,0,0,0,0]
[null,{"$f":"Dashboard!E130","v":0},{"$f":"Dashboard!G130","v":0},0,0,0,0,0,0,0]
[null,{"$f":"Dashboard!E131","v":0},{"$f":"Dashboard!G131","v":0},0,0,0,0,0,0,0]
[null,{"$f":"Dashboard!E132","v":0},{"$f":"Dashboard!G132","v":0},0,0,0,0,0,0,0]
[null,{"$f":"Dashboard!E133","v":0},{"$f":"Dashboard!G133","v":0},0,0,0,0,0,0,0]
[null,{"$f":"Dashboard!E134","v":0},{"$f":"Dashboard!G134","v":0},0,0,0,0,0,0,0]
[null,{"$f":"Dashboard!E135","v":0},{"$f":"Dashboard!G135","v":0},0,0,0,0,0,0,0]
[null,{"$f":"Dashboard!E136","v":0},{"$f":"Dashboard!G136","v":0},0,0,0,0,0,0,0]
[null,{"$f":"Dashboard!E137","v":0},{"$f":"Dashboard!G137","v":0},0,0,0,0,0,0,0]
[null,{"$f":"Dashboard!E138","v":0},{"$f":"Dashboard!G138","v":0},0,0,0,0,0,0,0]
[null,{"$f":"Dashboard!E139","v":0},{"$f":"Dashboard!G139","v":0},0,0,0,0,0,0,0]
[null,{"$f":"Dashboard!E140","v":0},{"$f":"Dashboard!G140","v":0},0,0,0,0,0,0,0]
[null,{"$f":"Dashboard!E141","v":0},{"$f":"Dashboard!G141","v":0},0,0,0,0,0,0,0]
[null,{"$f":"Dashboard!E142","v":0},{"$f":"Dashboard!G142","v":0},0,0,0,0,0,0,0]
[null,{"$f":"Dashboard!E143","v":0},{"$f":"Dashboard!G143","v":0},0,0,0,0,0,0,0]
[null,{"$f":"Dashboard!E144","v":0},{"$f":"Dashboard!G144","v":0},0,0,0,0,0,0,0]
[null,{"$f":"Dashboard!E145","v":0},{"$f":"Dashboard!G145","v":0},0,0,0,0,0,0,0]
[null,{"$f":"Dashboard!E146","v":0},{"$f":"Dashboard!G146","v":0},0,0,0,0,0,0,0]
[null,{"$f":"Dashboard!E147","v":0},{"$f":"Dashboard!G147","v":0},0,0,0,0,0,0,0]
[null,{"$f":"Dashboard!E148","v":0},{"$f":"Dashboard!G148","v":0},0,0,0,0,0,0,0]
[null,{"$f":"Dashboard!E149","v":0},{"$f":"Dashboard!G149","v":0},0,0,0,0,0,0,0]
[null,{"$f":"Dashboard!E150","v":0},{"$f":"Dashboard!G150","v":0},0,0,0,0,0,0,0]
[null,{"$f":"Dashboard!E151","v":0},{"$f":"Dashboard!G151","v":0},0,0,0,0,0,0,0]
[null,{"$f":"Dashboard!E152","v":0},{"$f":"Dashboard!G152","v":0},0,0,0,0,0,0,0]
[null,{"$f":"Dashboard!E153","v":0},{"$f":"Dashboard!G153","v":0},0,0,0,0,0,0,0]
[null,{"$f":"Dashboard!E154","v":0},{"$f":"Dashboard!G154","v":0},0,0,0,0,0,0,0]
[null,{"$f":"Dashboard!E155","v":0},{"$f":"Dashboard!G155","v":0},0,0,0,0,0,0,0]
[null,{"$f":"Dashboard!E156","v":0},{"$f":"Dashboard!G156","v":0},0,0,0,0,0,0,0]
[null,{"$f":"Dashboard!E157","v":0},{"$f":"Dashboard!G157","v":0},0,0,0,0,0,0,0]
[null,{"$f":"Dashboard!E158","v":0},{"$f":"Dashboard!G158","v":0},0,0,0,0,0,0,0]
[null,{"$f":"Dashboard!E159","v":0},{"$f":"Dashboard!G159","v":0},0,0,0,0,0,0,0]
[null,{"$f":"Dashboard!E160","v":0},{"$f":"Dashboard!G160","v":0},0,0,0,0,0,0,0]
[null,{"$f":"Dashboard!E161","v":0},{"$f":"Dashboard!G161","v":0},0,0,0,0,0,0,0]
[null,{"$f":"Dashboard!E162","v":0},{"$f":"Dashboard!G162","v":0},0,0,0,0,0,0,0]
[null,{"$f":"Dashboard!E163","v":0},{"$f":"Dashboard!G163","v":0},0,0,0,0,0,0,0]
[null,{"$f":"Dashboard!E164","v":0},{"$f":"Dashboard!G164","v":0},0,0,0,0,0,0,0]
[null,{"$f":"Dashboard!E165","v":0},{"$f":"Dashboard!G165","v":0},0,0,0,0,0,0,0]
[null,{"$f":"Dashboard!E166","v":0},{"$f":"Dashboard!G166","v":0},0,0,0,0,0,0,0]
[null,{"$f":"Dashboard!E167","v":0},{"$f":"Dashboard!G167","v":0},0,0,0,0,0,0,0]
[null,{"$f":"Dashboard!E168","v":0},{"$f":"Dashboard!G168","v":0},0,0,0,0,0,0,0]
[null,{"$f":"Dashboard!E169","v":0},{"$f":"Dashboard!G169","v":0},0,0,0,0,0,0,0]
[null,{"$f":"Dashboard!E170","v":0},{"$f":"Dashboard!G170","v":0},0,0,0,0,0,0,0]
[null,{"$f":"Dashboard!E171","v":0},{"$f":"Dashboard!G171","v":0},0,0,0,0,0,0,0]
[null,{"$f":"Dashboard!E172","v":0},{"$f":"Dashboard!G172","v":0},0,0,0,0,0,0,0]
[null,{"$f":"Dashboard!E173","v":0},{"$f":"Dashboard!G173","v":0},0,0,0,0,0,0,0]
[null,{"$f":"Dashboard!E174","v":0},{"$f":"Dashboard!G174","v":0},0,0,0,0,0,0,0]
[null,{"$f":"Dashboard!E175","v":0},{"$f":"Dashboard!G175","v":0},0,0,0,0,0,0,0]
[null,{"$f":"Dashboard!E176","v":0},{"$f":"Dashboard!G176","v":0},0,0,0,0,0,0,0]
[null,{"$f":"Dashboard!E177","v":0},{"$f":"Dashboard!G177","v":0},0,0,0,0,0,0,0]
[null,{"$f":"Dashboard!E178","v":0},{"$f":"Dashboard!G178","v":0},0,0,0,0,0,0,0]
[null,{"$f":"Dashboard!E179","v":0},{"$f":"Dashboard!G179","v":0},0,0,0,0,0,0,0]
[null,{"$f":"Dashboard!E180","v":0},{"$f":"Dashboard!G180","v":0},0,0,0,0,0,0,0]
[null,{"$f":"Dashboard!E181","v":0},{"$f":"Dashboard!G181","v":0},0,0,0,0,0,0,0]
[null,{"$f":"Dashboard!E182","v":0},{"$f":"Dashboard!G182","v":0},0,0,0,0,0,0,0]
[null,{"$f":"Dashboard!E183","v":0},{"$f":"Dashboard!G183","v":0},0,0,0,0,0,0,0]
[null,{"$f":"Dashboard!E184","v":0},{"$f":"Dashboard!G184","v":0},0,0,0,0,0,0,0]
[null,{"$f":"Dashboard!E185","v":0},{"$f":"Dashboard!G185","v":0},0,0,0,0,0,0,0]
[null,{"$f":"Dashboard!E186","v":0},{"$f":"Dashboard!G186","v":0},0,0,0,0,0,0,0]
[null,{"$f":"Dashboard!E187","v":0},{"$f":"Dashboard!G187","v":0},0,0,0,0,0,0,0]
[null,{"$f":"Dashboard!E188","v":0},{"$f":"Dashboard!G188","v":0},0,0,0,0,0,0,0]
[null,{"$f":"Dashboard!E189","v":0},{"$f":"Dashboard!G189","v":0},0,0,0,0,0,0,0]
[null,{"$f":"Dashboard!E190","v":0},{"$f":"Dashboard!G190","v":0},0,0,0,0,0,0,0]
[null,{"$f":"Dashboard!E191","v":0},{"$f":"Dashboard!G191","v":0},0,0,0,0,0,0,0]
[null,{"$f":"Dashboard!E192","v":0},{"$f":"Dashboard!G192","v":0},0,0,0,0,0,0,0]
[null,{"$f":"Dashboard!E193","v":0},{"$f":"Dashboard!G193","v":0},0,0,0,0,0,0,0]
[null,{"$f":"Dashboard!E194","v":0},{"$f":"Dashboard!G194","v":0},0,0,0,0,0,0,0]
[null,{"$f":"Dashboard!E195","v":0},{"$f":"Dashboard!G195","v":0},0,0,0,0,0,0,0]
[null,{"$f":"Dashboard!E196","v":0},{"$f":"Dashboard!G196","v":0},0,0,0,0,0,0,0]
[null,{"$f":"Dashboard!E197","v":0},{"$f":"Dashboard!G197","v":0},0,0,0,0,0,0,0]
[null,{"$f":"Dashboard!E198","v":0},{"$f":"Dashboard!G198","v":0},0,0,0,0,0,0,0]
[null,{"$f":"Dashboard!E199","v":0},{"$f":"Dashboard!G199","v":0},0,0,0,0,0,0,0]
[null,{"$f":"Dashboard!E200","v":0},{"$f":"Dashboard!G200","v":0},0,0,0,0,0,0,0]
[null,{"$f":"Dashboard!E201","v":0},{"$f":"Dashboard!G201","v":0},0,0,0,0,0,0,0]
[null,{"$f":"Dashboard!E202","v":0},{"$f":"Dashboard!G202","v":0},0,0,0,0,0,0,0]
[null,{"$f":"Dashboard!E203","v":0},{"$f":"Dashboard!G203","v":0},0,0,0,0,0,0,0]
[null,{"$f":"Dashboard!E204","v":0},{"$f":"Dashboard!G204","v":0},0,0,0,0,0,0,0]
[null,{"$f":"Dashboard!E205","v":0},{"$f":"Dashboard!G205","v":0},0,0,0,0,0,0,0]
[null,{"$f":"Dashboard!E206","v":0},{"$f":"Dashboard!G206","v":0},0,0,0,0,0,0,0]
[null,{"$f":"Dashboard!E207","v":0},{"$f":"Dashboard!G207","v":0},0,0,0,0,0,0,0]
[null,{"$f":"Dashboard!E208","v":0},{"$f":"Dashboard!G208","v":0},0,0,0,0,0,0,0]
[null,{"$f":"Dashboard!E209","v":0},{"$f":"Dashboard!G209","v":0},0,0,0,0,0,0,0]
[null,{"$f":"Dashboard!E210","v":0},{"$f":"Dashboard!G210","v":0},0,0,0,0,0,0,0]
[null,{"$f":"Dashboard!E211","v":0},{"$f":"Dashboard!G211","v":0},0,0,0,0,0,0,0]
[null,{"$f":"Dashboard!E212","v":0},{"$f":"Dashboard!G212","v":0},0,0,0,0,0,0,0]
[null,{"$f":"Dashboard!E213","v":0},{"$f":"Dashboard!G213","v":0},0,0,0,0,0,0,0]
[null,{"$f":"Dashboard!E214","v":0},{"$f":"Dashboard!G214","v":0},0,0,0,0,0,0,0]
[null,{"$f":"Dashboard!E215","v":0},{"$f":"Dashboard!G215","v":0},0,0,0,0,0,0,0]
[null,{"$f":"Dashboard!E216","v":0},{"$f":"Dashboard!G216","v":0},0,0,0,0,0,0,0]
[null,{"$f":"Dashboard!E217","v":0},{"$f":"Dashboard!G217","v":0},0,0,0,0,0,0,0]
[null,{"$f":"Dashboard!E218","v":0},{"$f":"Dashboard!G218","v":0},0,0,0,0,0,0,0]
[null,{"$f":"Dashboard!E219","v":0},{"$f":"Dashboard!G219","v":0},0,0,0,0,0,0,0]
[null,{"$f":"Dashboard!E220","v":0},{"$f":"Dashboard!G220","v":0},0,0,0,0,0,0,0]
[null,{"$f":"Dashboard!E221","v":0},{"$f":"Dashboard!G221","v":0},0,0,0,0,0,0,0]
[null,{"$f":"Dashboard!E222","v":0},{"$f":"Dashboard!G222","v":0},0,0,0,0,0,0,0]
[null,{"$f":"Dashboard!E223","v":0},{"$f":"Dashboard!G223","v":0},0,0,0,0,0,0,0]
[null,{"$f":"Dashboard!E224","v":0},{"$f":"Dashboard!G224","v":0},0,0,0,0,0,0,0]
[null,{"$f":"Dashboard!E225","v":0},{"$f":"Dashboard!G225","v":0},0,0,0,0,0,0,0]
[null,{"$f":"Dashboard!E226","v":0},{"$f":"Dashboard!G226","v":0},0,0,0,0,0,0,0]
[null,{"$f":"Dashboard!E227","v":0},{"$f":"Dashboard!G227","v":0},0,0,0,0,0,0,0]
[null,{"$f":"Dashboard!E228","v":0},{"$f":"Dashboard!G228","v":0},0,0,0,0,0,0,0]
[null,{"$f":"Dashboard!E229","v":0},{"$f":"Dashboard!G229","v":0},0,0,0,0,0,0,0]
[null,{"$f":"Dashboard!E230","v":0},{"$f":"Dashboard!G230","v":0},0,0,0,0,0,0,0]
[null,{"$f":"Dashboard!E231","v":0},{"$f":"Dashboard!G231","v":0},0,0,0,0,0,0,0]
[null,{"$f":"Dashboard!E232","v":0},{"$f":"Dashboard!G232","v":0},0,0,0,0,0,0,0]
[null,{"$f":"Dashboard!E233","v":0},{"$f":"Dashboard!G233","v":0},0,0,0,0,0,0,0]
[null,{"$f":"Dashboard!E234","v":0},{"$f":"Dashboard!G234","v":0},0,0,0,0,0,0,0]
[null,{"$f":"Dashboard!E235","v":0},{"$f":"Dashboard!G235","v":0},0,0,0,0,0,0,0]
[null,{"$f":"Dashboard!E236","v":0},{"$f":"Dashboard!G236","v":0},0,0,0,0,0,0,0]
[null,{"$f":"Dashboard!E237","v":0},{"$f":"Dashboard!G237","v":0},0,0,0,0,0,0,0]
[null,{"$f":"Dashboard!E238","v":0},{"$f":"Dashboard!G238","v":0},0,0,0,0,0,0,0]
[null,{"$f":"Dashboard!E239","v":0},{"$f":"Dashboard!G239","v":0},0,0,0,0,0,0,0]
[null,{"$f":"Dashboard!E240","v":0},{"$f":"Dashboard!G240","v":0},0,0,0,0,0,0,0]
[null,{"$f":"Dashboard!E241","v":0},{"$f":"Dashboard!G241","v":0},0,0,0,0,0,0,0]
[null,{"$f":"Dashboard!E242","v":0},{"$f":"Dashboard!G242","v":0},0,0,0,0,0,0,0]
[null,{"$f":"Dashboard!E243","v":0},{"$f":"Dashboard!G243","v":0},0,0,0,0,0,0,0]
[null,{"$f":"Dashboard!E244","v":0},{"$f":"Dashboard!G244","v":0},0,0,0,0,0,0,0]
[null,{"$f":"Dashboard!E245","v":0},{"$f":"Dashboard!G245","v":0},0,0,0,0,0,0,0]
[null,{"$f":"Dashboard!E246","v":0},{"$f":"Dashboard!G246","v":0},0,0,0,0,0,0,0]
[null,{"$f":"Dashboard!E247","v":0},{"$f":"Dashboard!G247","v":0},0,0,0,0,0,0,0]
[null,{"$f":"Dashboard!E248","v":0},{"$f":"Dashboard!G248","v":0},0,0,0,0,0,0,0]
[null,{"$f":"Dashboard!E249","v":0},{"$f":"Dashboard!G249","v":0},0,0,0,0,0,0,0]
[null,{"$f":"Dashboard!E250","v":0},{"$f":"Dashboard!G250","v":0},0,0,0,0,0,0,0]
[null,{"$f":"Dashboard!E251","v":0},{"$f":"Dashboard!G251","v":0},0,0,0,0,0,0,0]
[null,{"$f":"Dashboard!E252","v":0},{"$f":"Dashboard!G252","v":0},0,0,0,0,0,0,0]
[null,{"$f":"Dashboard!E253","v":0},{"$f":"Dashboard!G253","v":0},0,0,0,0,0,0,0]
[null,{"$f":"Dashboard!E254","v":0},{"$f":"Dashboard!G254","v":0},0,0,0,0,0,0,0]
[null,{"$f":"Dashboard!E255","v":0},{"$f":"Dashboard!G255","v":0},0,0,0,0,0,0,0]
[null,{"$f":"Dashboard!E256","v":0},{"$f":"Dashboard!G256","v":0},0,0,0,0,0,0,0]
[null,{"$f":"Dashboard!E257","v":0},{"$f":"Dashboard!G257","v":0},0,0,0,0,0,0,0]
[null,{"$f":"Dashboard!E258","v":0},{"$f":"Dashboard!G258","v":0},0,0,0,0,0,0,0]
[null,{"$f":"Dashboard!E259","v":0},{"$f":"Dashboard!G259","v":0},0,0,0,0,0,0,0]
[null,{"$f":"Dashboard!E260","v":0},{"$f":"Dashboard!G260","v":0},0,0,0,0,0,0,0]
[null,{"$f":"Dashboard!E261","v":0},{"$f":"Dashboard!G261","v":0},0,0,0,0,0,0,0]
[null,{"$f":"Dashboard!E262","v":0},{"$f":"Dashboard!G262","v":0},0,0,0,0,0,0,0]
[null,{"$f":"Dashboard!E263","v":0},{"$f":"Dashboard!G263","v":0},0,0,0,0,0,0,0]
[null,{"$f":"Dashboard!E264","v":0},{"$f":"Dashboard!G264","v":0},0,0,0,0,0,0,0]
[null,{"$f":"Dashboard!E265","v":0},{"$f":"Dashboard!G265","v":0},0,0,0,0,0,0,0]
[null,{"$f":"Dashboard!E266","v":0},{"$f":"Dashboard!G266","v":0},0,0,0,0,0,0,0]
[null,{"$f":"Dashboard!E267","v":0},{"$f":"Dashboard!G267","v":0},0,0,0,0,0,0,0]
[null,{"$f":"Dashboard!E268","v":0},{"$f":"Dashboard!G268","v":0},0,0,0,0,0,0,0]
[null,{"$f":"Dashboard!E269","v":0},{"$f":"Dashboard!G269","v":0},0,0,0,0,0,0,0]
[null,{"$f":"Dashboard!E270","v":0},{"$f":"Dashboard!G270","v":0},0,0,0,0,0,0,0]
[null,{"$f":"Dashboard!E271","v":0},{"$f":"Dashboard!G271","v":0},0,0,0,0,0,0,0]
[null,{"$f":"Dashboard!E272","v":0},{"$f":"Dashboard!G272","v":0},0,0,0,0,0,0,0]
[null,{"$f":"Dashboard!E273","v":0},{"$f":"Dashboard!G273","v":0},0,0,0,0,0,0,0]
[null,{"$f":"Dashboard!E274","v":0},{"$f":"Dashboard!G274","v":0},0,0,0,0,0,0,0]
[null,{"$f":"Dashboard!E275","v":0},{"$f":"Dashboard!G275","v":0},0,0,0,0,0,0,0]
[null,{"$f":"Dashboard!E276","v":0},{"$f":"Dashboard!G276","v":0},0,0,0,0,0,0,0]
[null,{"$f":"Dashboard!E277","v":0},{"$f":"Dashboard!G277","v":0},0,0,0,0,0,0,0]
[null,{"$f":"Dashboard!E278","v":0},{"$f":"Dashboard!G278","v":0},0,0,0,0,0,0,0]
[null,{"$f":"Dashboard!E279","v":0},{"$f":"Dashboard!G279","v":0},0,0,0,0,0,0,0]
[null,{"$f":"Dashboard!E280","v":0},{"$f":"Dashboard!G280","v":0},0,0,0,0,0,0,0]
[null,{"$f":"Dashboard!E281","v":0},{"$f":"Dashboard!G281","v":0},0,0,0,0,0,0,0]
[null,{"$f":"Dashboard!E282","v":0},{"$f":"Dashboard!G282","v":0},0,0,0,0,0,0,0]
[null,{"$f":"Dashboard!E283","v":0},{"$f":"Dashboard!G283","v":0},0,0,0,0,0,0,0]
[null,{"$f":"Dashboard!E284","v":0},{"$f":"Dashboard!G284","v":0},0,0,0,0,0,0,0]
[null,{"$f":"Dashboard!E285","v":0},{"$f":"Dashboard!G285","v":0},0,0,0,0,0,0,0]
[null,{"$f":"Dashboard!E286","v":0},{"$f":"Dashboard!G286","v":0},0,0,0,0,0,0,0]
[null,{"$f":"Dashboard!E287","v":0},{"$f":"Dashboard!G287","v":0},0,0,0,0,0,0,0]
[null,{"$f":"Dashboard!E288","v":0},{"$f":"Dashboard!G288","v":0},0,0,0,0,0,0,0]
[null,{"$f":"Dashboard!E289","v":0},{"$f":"Dashboard!G289","v":0},0,0,0,0,0,0,0]
[null,{"$f":"Dashboard!E290","v":0},{"$f":"Dashboard!G290","v":0},0,0,0,0,0,0,0]
[null,{"$f":"Dashboard!E291","v":0},{"$f":"Dashboard!G291","v":0},0,0,0,0,0,0,0]
[null,{"$f":"Dashboard!E292","v":0},{"$f":"Dashboard!G292","v":0},0,0,0,0,0,0,0]
[null,{"$f":"Dashboard!E293","v":0},{"$f":"Dashboard!G293","v":0},0,0,0,0,0,0,0]
[null,{"$f":"Dashboard!E294","v":0},{"$f":"Dashboard!G294","v":0},0,0,0,0,0,0,0]
[null,{"$f":"Dashboard!E295","v":0},{"$f":"Dashboard!G295","v":0},0,0,0,0,0,0,0]
[null,{"$f":"Dashboard!E296","v":0},{"$f":"Dashboard!G296","v":0},0,0,0,0,0,0,0]
[null,{"$f":"Dashboard!E297","v":0},{"$f":"Dashboard!G297","v":0},0,0,0,0,0,0,0]
[null,{"$f":"Dashboard!E298","v":0},{"$f":"Dashboard!G298","v":0},0,0,0,0,0,0,0]
[null,{"$f":"Dashboard!E299","v":0},{"$f":"Dashboard!G299","v":0},0,0,0,0,0,0,0]
[null,{"$f":"Dashboard!E300","v":0},{"$f":"Dashboard!G300","v":0},0,0,0,0,0,0,0]
[null,{"$f":"Dashboard!E301","v":0},{"$f":"Dashboard!G301","v":0},0,0,0,0,0,0,0]
[null,{"$f":"Dashboard!E302","v":0},{"$f":"Dashboard!G302","v":0},0,0,0,0,0,0,0]
[null,{"$f":"Dashboard!E303","v":0},{"$f":"Dashboard!G303","v":0},0,0,0,0,0,0,0]
[null,{"$f":"Dashboard!E304","v":0},{"$f":"Dashboard!G304","v":0},0,0,0,0,0,0,0]
[null,{"$f":"Dashboard!E305","v":0},{"$f":"Dashboard!G305","v":0},0,0,0,0,0,0,0]
[null,{"$f":"Dashboard!E306","v":0},{"$f":"Dashboard!G306","v":0},0,0,0,0,0,0,0]
[null,{"$f":"Dashboard!E307","v":0},{"$f":"Dashboard!G307","v":0},0,0,0,0,0,0,0]
[null,{"$f":"Dashboard!E308","v":0},{"$f":"Dashboard!G308","v":0},0,0,0,0,0,0,0]
[null,{"$f":"Dashboard!E309","v":0},{"$f":"Dashboard!G309","v":0},0,0,0,0,0,0,0]
[null,{"$f":"Dashboard!E310","v":0},{"$f":"Dashboard!G310","v":0},0,0,0,0,0,0,0]
[null,{"$f":"Dashboard!E311","v":0},{"$f":"Dashboard!G311","v":0},0,0,0,0,0,0,0]
[null,{"$f":"Dashboard!E312","v":0},{"$f":"Dashboard!G312","v":0},0,0,0,0,0,0,0]
[null,{"$f":"Dashboard!E313","v":0},{"$f":"Dashboard!G313","v":0},0,0,0,0,0,0,0]
[null,{"$f":"Dashboard!E314","v":0},{"$f":"Dashboard!G314","v":0},0,0,0,0,0,0,0]
[null,{"$f":"Dashboard!E315","v":0},{"$f":"Dashboard!G315","v":0},0,0,0,0,0,0,0]
[null,{"$f":"Dashboard!E316","v":0},{"$f":"Dashboard!G316","v":0},0,0,0,0,0,0,0]
[null,{"$f":"Dashboard!E317","v":0},{"$f":"Dashboard!G317","v":0},0,0,0,0,0,0,0]
[null,{"$f":"Dashboard!E318","v":0},{"$f":"Dashboard!G318","v":0},0,0,0,0,0,0,0]
[null,{"$f":"Dashboard!E319","v":0},{"$f":"Dashboard!G319","v":0},0,0,0,0,0,0,0]
[null,{"$f":"Dashboard!E320","v":0},{"$f":"Dashboard!G320","v":0},0,0,0,0,0,0,0]
[null,{"$f":"Dashboard!E321","v":0},{"$f":"Dashboard!G321","v":0},0,0,0,0,0,0,0]
[null,{"$f":"Dashboard!E322","v":0},{"$f":"Dashboard!G322","v":0},0,0,0,0,0,0,0]
[null,{"$f":"Dashboard!E323","v":0},{"$f":"Dashboard!G323","v":0},0,0,0,0,0,0,0]
[null,{"$f":"Dashboard!E324","v":0},{"$f":"Dashboard!G324","v":0},0,0,0,0,0,0,0]
[null,{"$f":"Dashboard!E325","v":0},{"$f":"Dashboard!G325","v":0},0,0,0,0,0,0,0]
[null,{"$f":"Dashboard!E326","v":0},{"$f":"Dashboard!G326","v":0},0,0,0,0,0,0,0]
[null,{"$f":"Dashboard!E327","v":0},{"$f":"Dashboard!G327","v":0},0,0,0,0,0,0,0]
[null,{"$f":"Dashboard!E328","v":0},{"$f":"Dashboard!G328","v":0},0,0,0,0,0,0,0]
[null,{"$f":"Dashboard!E329","v":0},{"$f":"Dashboard!G329","v":0},0,0,0,0,0,0,0]
[null,{"$f":"Dashboard!E330","v":0},{"$f":"Dashboard!G330","v":0},0,0,0,0,0,0,0]
[null,{"$f":"Dashboard!E331","v":0},{"$f":"Dashboard!G331","v":0},0,0,0,0,0,0,0]
[null,{"$f":"Dashboard!E332","v":0},{"$f":"Dashboard!G332","v":0},0,0,0,0,0,0,0]
[null,{"$f":"Dashboard!E333","v":0},{"$f":"Dashboard!G333","v":0},0,0,0,0,0,0,0]
[null,{"$f":"Dashboard!E334","v":0},{"$f":"Dashboard!G334","v":0},0,0,0,0,0,0,0]
[null,{"$f":"Dashboard!E335","v":0},{"$f":"Dashboard!G335","v":0},0,0,0,0,0,0,0]
[null,{"$f":"Dashboard!E336","v":0},{"$f":"Dashboard!G336","v":0},0,0,0,0,0,0,0]
[null,{"$f":"Dashboard!E337","v":0},{"$f":"Dashboard!G337","v":0},0,0,0,0,0,0,0]
[null,{"$f":"Dashboard!E338","v":0},{"$f":"Dashboard!G338","v":0},0,0,0,0,0,0,0]
[null,{"$f":"Dashboard!E339","v":0},{"$f":"Dashboard!G339","v":0},0,0,0,0,0,0,0]
[null,{"$f":"Dashboard!E340","v":0},{"$f":"Dashboard!G340","v":0},0,0,0,0,0,0,0]
[null,{"$f":"Dashboard!E341","v":0},{"$f":"Dashboard!G341","v":0},0,0,0,0,0,0,0]
[null,{"$f":"Dashboard!E342","v":0},{"$f":"Dashboard!G342","v":0},0,0,0,0,0,0,0]
[null,{"$f":"Dashboard!E343","v":0},{"$f":"Dashboard!G343","v":0},0,0,0,0,0,0,0]
[null,{"$f":"Dashboard!E344","v":0},{"$f":"Dashboard!G344","v":0},0,0,0,0,0,0,0]
[null,{"$f":"Dashboard!E345","v":0},{"$f":"Dashboard!G345","v":0},0,0,0,0,0,0,0]
[null,{"$f":"Dashboard!E346","v":0},{"$f":"Dashboard!G346","v":0},0,0,0,0,0,0,0]
[null,{"$f":"Dashboard!E347","v":0},{"$f":"Dashboard!G347","v":0},0,0,0,0,0,0,0]
[null,{"$f":"Dashboard!E348","v":0},{"$f":"Dashboard!G348","v":0},0,0,0,0,0,0,0]
[null,{"$f":"Dashboard!E349","v":0},{"$f":"Dashboard!G349","v":0},0,0,0,0,0,0,0]
[null,{"$f":"Dashboard!E350","v":0},{"$f":"Dashboard!G350","v":0},0,0,0,0,0,0,0]
[null,{"$f":"Dashboard!E351","v":0},{"$f":"Dashboard!G351","v":0},0,0,0,0,0,0,0]
[null,{"$f":"Dashboard!E352","v":0},{"$f":"Dashboard!G352","v":0},0,0,0,0,0,0,0]
[null,{"$f":"Dashboard!E353","v":0},{"$f":"Dashboard!G353","v":0},0,0,0,0,0,0,0]
[null,{"$f":"Dashboard!E354","v":0},{"$f":"Dashboard!G354","v":0},0,0,0,0,0,0,0]
[null,{"$f":"Dashboard!E355","v":0},{"$f":"Dashboard!G355","v":0},0,0,0,0,0,0,0]
[null,{"$f":"Dashboard!E356","v":0},{"$f":"Dashboard!G356","v":0},0,0,0,0,0,0,0]
[null,{"$f":"Dashboard!E357","v":0},{"$f":"Dashboard!G357","v":0},0,0,0,0,0,0,0]
[null,{"$f":"Dashboard!E358","v":0},{"$f":"Dashboard!G358","v":0},0,0,0,0,0,0,0]
[null,{"$f":"Dashboard!E359","v":0},{"$f":"Dashboard!G359","v":0},0,0,0,0,0,0,0]
[null,{"$f":"Dashboard!E360","v":0},{"$f":"Dashboard!G360","v":0},0,0,0,0,0,0,0]
[null,{"$f":"Dashboard!E361","v":0},{"$f":"Dashboard!G361","v":0},0,0,0,0,0,0,0]
[null,{"$f":"Dashboard!E362","v":0},{"$f":"Dashboard!G362","v":0},0,0,0,0,0,0,0]
[null,{"$f":"Dashboard!E363","v":0},{"$f":"Dashboard!G363","v":0},0,0,0,0,0,0,0]
[null,{"$f":"Dashboard!E364","v":0},{"$f":"Dashboard!G364","v":0},0,0,0,0,0,0,0]
[null,{"$f":"Dashboard!E365","v":0},{"$f":"Dashboard!G365","v":0},0,0,0,0,0,0,0]
[null,{"$f":"Dashboard!E366","v":0},{"$f":"Dashboard!G366","v":0},0,0,0,0,0,0,0]
[null,{"$f":"Dashboard!E367","v":0},{"$f":"Dashboard!G367","v":0},0,0,0,0,0,0,0]
[null,{"$f":"Dashboard!E368","v":0},{"$f":"Dashboard!G368","v":0},0,0,0,0,0,0,0]
[null,{"$f":"Dashboard!E369","v":0},{"$f":"Dashboard!G369","v":0},0,0,0,0,0,0,0]
[null,{"$f":"Dashboard!E370","v":0},{"$f":"Dashboard!G370","v":0},0,0,0,0,0,0,0]
[null,{"$f":"Dashboard!E371","v":0},{"$f":"Dashboard!G371","v":0},0,0,0,0,0,0,0]
[null,{"$f":"Dashboard!E372","v":0},{"$f":"Dashboard!G372","v":0},0,0,0,0,0,0,0]
[null,{"$f":"Dashboard!E373","v":0},{"$f":"Dashboard!G373","v":0},0,0,0,0,0,0,0]
[null,{"$f":"Dashboard!E374","v":0},{"$f":"Dashboard!G374","v":0},0,0,0,0,0,0,0]
[null,{"$f":"Dashboard!E375","v":0},{"$f":"Dashboard!G375","v":0},0,0,0,0,0,0,0]
[null,{"$f":"Dashboard!E376","v":0},{"$f":"Dashboard!G376","v":0},0,0,0,0,0,0,0]
[null,{"$f":"Dashboard!E377","v":0},{"$f":"Dashboard!G377","v":0},0,0,0,0,0,0,0]
[null,{"$f":"Dashboard!E378","v":0},{"$f":"Dashboard!G378","v":0},0,0,0,0,0,0,0]
[null,{"$f":"Dashboard!E379","v":0},{"$f":"Dashboard!G379","v":0},0,0,0,0,0,0,0]
[null,{"$f":"Dashboard!E380","v":0},{"$f":"Dashboard!G380","v":0},0,0,0,0,0,0,0]
[null,{"$f":"Dashboard!E381","v":0},{"$f":"Dashboard!G381","v":0},0,0,0,0,0,0,0]
[null,{"$f":"Dashboard!E382","v":0},{"$f":"Dashboard!G382","v":0},0,0,0,0,0,0,0]
[null,{"$f":"Dashboard!E383","v":0},{"$f":"Dashboard!G383","v":0},0,0,0,0,0,0,0]
[null,{"$f":"Dashboard!E384","v":0},{"$f":"Dashboard!G384","v":0},0,0,0,0,0,0,0]
[null,{"$f":"Dashboard!E385","v":0},{"$f":"Dashboard!G385","v":0},0,0,0,0,0,0,0]
[null,{"$f":"Dashboard!E386","v":0},{"$f":"Dashboard!G386","v":0},0,0,0,0,0,0,0]
[null,{"$f":"Dashboard!E387","v":0},{"$f":"Dashboard!G387","v":0},0,0,0,0,0,0,0]
[null,{"$f":"Dashboard!E388","v":0},{"$f":"Dashboard!G388","v":0},0,0,0,0,0,0,0]
[null,{"$f":"Dashboard!E389","v":0},{"$f":"Dashboard!G389","v":0},0,0,0,0,0,0,0]
[null,{"$f":"Dashboard!E390","v":0},{"$f":"Dashboard!G390","v":0},0,0,0,0,0,0,0]
[null,{"$f":"Dashboard!E391","v":0},{"$f":"Dashboard!G391","v":0},0,0,0,0,0,0,0]
[null,{"$f":"Dashboard!E392","v":0},{"$f":"Dashboard!G392","v":0},0,0,0,0,0,0,0]
[null,{"$f":"Dashboard!E393","v":0},{"$f":"Dashboard!G393","v":0},0,0,0,0,0,0,0]
[null,{"$f":"Dashboard!E394","v":0},{"$f":"Dashboard!G394","v":0},0,0,0,0,0,0,0]
[null,{"$f":"Dashboard!E395","v":0},{"$f":"Dashboard!G395","v":0},0,0,0,0,0,0,0]
[null,{"$f":"Dashboard!E396","v":0},{"$f":"Dashboard!G396","v":0},0,0,0,0,0,0,0]
[null,{"$f":"Dashboard!E397","v":0},{"$f":"Dashboard!G397","v":0},0,0,0,0,0,0,0]
[null,{"$f":"Dashboard!E398","v":0},{"$f":"Dashboard!G398","v":0},0,0,0,0,0,0,0]
[null,{"$f":"Dashboard!E399","v":0},{"$f":"Dashboard!G399","v":0},0,0,0,0,0,0,0]
[null,{"$f":"Dashboard!E400","v":0},{"$f":"Dashboard!G400","v":0},0,0,0,0,0,0,0]
[null,{"$f":"Dashboard!E401","v":0},{"$f":"Dashboard!G401","v":0},0,0,0,0,0,0,0]
[null,{"$f":"Dashboard!E402","v":0},{"$f":"Dashboard!G402","v":0},0,0,0,0,0,0,0]
[null,{"$f":"Dashboard!E403","v":0},{"$f":"Dashboard!G403","v":0},0,0,0,0,0,0,0]
[null,{"$f":"Dashboard!E404","v":0},{"$f":"Dashboard!G404","v":0},0,0,0,0,0,0,0]
[null,{"$f":"Dashboard!E405","v":0},{"$f":"Dashboard!G405","v":0},0,0,0,0,0,0,0]
[null,{"$f":"Dashboard!E406","v":0},{"$f":"Dashboard!G406","v":0},0,0,0,0,0,0,0]
[null,{"$f":"Dashboard!E407","v":0},{"$f":"Dashboard!G407","v":0},0,0,0,0,0,0,0]
[null,{"$f":"Dashboard!E408","v":0},{"$f":"Dashboard!G408","v":0},0,0,0,0,0,0,0]
[null,{"$f":"Dashboard!E409","v":0},{"$f":"Dashboard!G409","v":0},0,0,0,0,0,0,0]
[null,{"$f":"Dashboard!E410","v":0},{"$f":"Dashboard!G410","v":0},0,0,0,0,0,0,0]
[null,{"$f":"Dashboard!E411","v":0},{"$f":"Dashboard!G411","v":0},0,0,0,0,0,0,0]
[null,{"$f":"Dashboard!E412","v":0},{"$f":"Dashboard!G412","v":0},0,0,0,0,0,0,0]
[null,{"$f":"Dashboard!E413","v":0},{"$f":"Dashboard!G413","v":0},0,0,0,0,0,0,0]
[null,{"$f":"Dashboard!E414","v":0},{"$f":"Dashboard!G414","v":0},0,0,0,0,0,0,0]
[null,{"$f":"Dashboard!E415","v":0},{"$f":"Dashboard!G415","v":0},0,0,0,0,0,0,0]
[null,{"$f":"Dashboard!E416","v":0},{"$f":"Dashboard!G416","v":0},0,0,0,0,0,0,0]
[null,{"$f":"Dashboard!E417","v":0},{"$f":"Dashboard!G417","v":0},0,0,0,0,0,0,0]
[null,{"$f":"Dashboard!E418","v":0},{"$f":"Dashboard!G418","v":0},0,0,0,0,0,0,0]
[null,{"$f":"Dashboard!E419","v":0},{"$f":"Dashboard!G419","v":0},0,0,0,0,0,0,0]
[null,{"$f":"Dashboard!E420","v":0},{"$f":"Dashboard!G420","v":0},0,0,0,0,0,0,0]
[null,{"$f":"Dashboard!E421","v":0},{"$f":"Dashboard!G421","v":0},0,0,0,0,0,0,0]
[null,{"$f":"Dashboard!E422","v":0},{"$f":"Dashboard!G422","v":0},0,0,0,0,0,0,0]
[null,{"$f":"Dashboard!E423","v":0},{"$f":"Dashboard!G423","v":0},0,0,0,0,0,0,0]
[null,{"$f":"Dashboard!E424","v":0},{"$f":"Dashboard!G424","v":0},0,0,0,0,0,0,0]
[null,{"$f":"Dashboard!E425","v":0},{"$f":"Dashboard!G425","v":0},0,0,0,0,0,0,0]
[null,{"$f":"Dashboard!E426","v":0},{"$f":"Dashboard!G426","v":0},0,0,0,0,0,0,0]
[null,{"$f":"Dashboard!E427","v":0},{"$f":"Dashboard!G427","v":0},0,0,0,0,0,0,0]
[null,{"$f":"Dashboard!E428","v":0},{"$f":"Dashboard!G428","v":0},0,0,0,0,0,0,0]
[null,{"$f":"Dashboard!E429","v":0},{"$f":"Dashboard!G429","v":0},0,0,0,0,0,0,0]
[null,{"$f":"Dashboard!E430","v":0},{"$f":"Dashboard!G430","v":0},0,0,0,0,0,0,0]
[null,{"$f":"Dashboard!E431","v":0},{"$f":"Dashboard!G431","v":0},0,0,0,0,0,0,0]
[null,{"$f":"Dashboard!E432","v":0},{"$f":"Dashboard!G432","v":0},0,0,0,0,0,0,0]
[null,{"$f":"Dashboard!E433","v":0},{"$f":"Dashboard!G433","v":0},0,0,0,0,0,0,0]
[null,{"$f":"Dashboard!E434","v":0},{"$f":"Dashboard!G434","v":0},0,0,0,0,0,0,0]
[null,{"$f":"Dashboard!E435","v":0},{"$f":"Dashboard!G435","v":0},0,0,0,0,0,0,0]
[null,{"$f":"Dashboard!E436","v":0},{"$f":"Dashboard!G436","v":0},0,0,0,0,0,0,0]
[null,{"$f":"Dashboard!E437","v":0},{"$f":"Dashboard!G437","v":0},0,0,0,0,0,0,0]
[null,{"$f":"Dashboard!E438","v":0},{"$f":"Dashboard!G438","v":0},0,0,0,0,0,0,0]
[null,{"$f":"Dashboard!E439","v":0},{"$f":"Dashboard!G439","v":0},0,0,0,0,0,0,0]
[null,{"$f":"Dashboard!E440","v":0},{"$f":"Dashboard!G440","v":0},0,0,0,0,0,0,0]
[null,{"$f":"Dashboard!E441","v":0},{"$f":"Dashboard!G441","v":0},0,0,0,0,0,0,0]
[null,{"$f":"Dashboard!E442","v":0},{"$f":"Dashboard!G442","v":0},0,0,0,0,0,0,0]
[null,{"$f":"Dashboard!E443","v":0},{"$f":"Dashboard!G443","v":0},0,0,0,0,0,0,0]
[null,{"$f":"Dashboard!E444","v":0},{"$f":"Dashboard!G444","v":0},0,0,0,0,0,0,0]
[null,{"$f":"Dashboard!E445","v":0},{"$f":"Dashboard!G445","v":0},0,0,0,0,0,0,0]
[null,{"$f":"Dashboard!E446","v":0},{"$f":"Dashboard!G446","v":0},0,0,0,0,0,0,0]
[null,{"$f":"Dashboard!E447","v":0},{"$f":"Dashboard!G447","v":0},0,0,0,0,0,0,0]
[null,{"$f":"Dashboard!E448","v":0},{"$f":"Dashboard!G448","v":0},0,0,0,0,0,0,0]
[null,{"$f":"Dashboard!E449","v":0},{"$f":"Dashboard!G449","v":0},0,0,0,0,0,0,0]
[null,{"$f":"Dashboard!E450","v":0},{"$f":"Dashboard!G450","v":0},0,0,0,0,0,0,0]
[null,{"$f":"Dashboard!E451","v":0},{"$f":"Dashboard!G451","v":0},0,0,0,0,0,0,0]
[null,{"$f":"Dashboard!E452","v":0},{"$f":"Dashboard!G452","v":0},0,0,0,0,0,0,0]
[null,{"$f":"Dashboard!E453","v":0},{"$f":"Dashboard!G453","v":0},0,0,0,0,0,0,0]
[null,{"$f":"Dashboard!E454","v":0},{"$f":"Dashboard!G454","v":0},0,0,0,0,0,0,0]
[null,{"$f":"Dashboard!E455","v":0},{"$f":"Dashboard!G455","v":0},0,0,0,0,0,0,0]
[null,{"$f":"Dashboard!E456","v":0},{"$f":"Dashboard!G456","v":0},0,0,0,0,0,0,0]
[null,{"$f":"Dashboard!E457","v":0},{"$f":"Dashboard!G457","v":0},0,0,0,0,0,0,0]
[null,{"$f":"Dashboard!E458","v":0},{"$f":"Dashboard!G458","v":0},0,0,0,0,0,0,0]
[null,{"$f":"Dashboard!E459","v":0},{"$f":"Dashboard!G459","v":0},0,0,0,0,0,0,0]
[null,{"$f":"Dashboard!E460","v":0},{"$f":"Dashboard!G460","v":0},0,0,0,0,0,0,0]
[null,{"$f":"Dashboard!E461","v":0},{"$f":"Dashboard!G461","v":0},0,0,0,0,0,0,0]
[null,{"$f":"Dashboard!E462","v":0},{"$f":"Dashboard!G462","v":0},0,0,0,0,0,0,0]
[null,{"$f":"Dashboard!E463","v":0},{"$f":"Dashboard!G463","v":0},0,0,0,0,0,0,0]
[null,{"$f":"Dashboard!E464","v":0},{"$f":"Dashboard!G464","v":0},0,0,0,0,0,0,0]
[null,{"$f":"Dashboard!E465","v":0},{"$f":"Dashboard!G465","v":0},0,0,0,0,0,0,0]
[null,{"$f":"Dashboard!E466","v":0},{"$f":"Dashboard!G466","v":0},0,0,0,0,0,0,0]
[null,{"$f":"Dashboard!E467","v":0},{"$f":"Dashboard!G467","v":0},0,0,0,0,0,0,0]
[null,{"$f":"Dashboard!E468","v":0},{"$f":"Dashboard!G468","v":0},0,0,0,0,0,0,0]
[null,{"$f":"Dashboard!E469","v":0},{"$f":"Dashboard!G469","v":0},0,0,0,0,0,0,0]
[null,{"$f":"Dashboard!E470","v":0},{"$f":"Dashboard!G470","v":0},0,0,0,0,0,0,0]
[null,{"$f":"Dashboard!E471","v":0},{"$f":"Dashboard!G471","v":0},0,0,0,0,0,0,0]
[null,{"$f":"Dashboard!E472","v":0},{"$f":"Dashboard!G472","v":0},0,0,0,0,0,0,0]
[null,{"$f":"Dashboard!E473","v":0},{"$f":"Dashboard!G473","v":0},0,0,0,0,0,0,0]
[null,{"$f":"Dashboard!E474","v":0},{"$f":"Dashboard!G474","v":0},0,0,0,0,0,0,0]
[null,{"$f":"Dashboard!E475","v":0},{"$f":"Dashboard!G475","v":0},0,0,0,0,0,0,0]
[null,{"$f":"Dashboard!E476","v":0},{"$f":"Dashboard!G476","v":0},0,0,0,0,0,0,0]
[null,{"$f":"Dashboard!E477","v":0},{"$f":"Dashboard!G477","v":0},0,0,0,0,0,0,0]
[null,{"$f":"Dashboard!E478","v":0},{"$f":"Dashboard!G478","v":0},0,0,0,0,0,0,0]
[null,{"$f":"Dashboard!E479","v":0},{"$f":"Dashboard!G479","v":0},0,0,0,0,0,0,0]
[null,{"$f":"Dashboard!E480","v":0},{"$f":"Dashboard!G480","v":0},0,0,0,0,0,0,0]
[null,{"$f":"Dashboard!E481","v":0},{"$f":"Dashboard!G481","v":0},0,0,0,0,0,0,0]
[null,{"$f":"Dashboard!E482","v":0},{"$f":"Dashboard!G482","v":0},0,0,0,0,0,0,0]
[null,{"$f":"Dashboard!E483","v":0},{"$f":"Dashboard!G483","v":0},0,0,0,0,0,0,0]
[null,{"$f":"Dashboard!E484","v":0},{"$f":"Dashboard!G484","v":0},0,0,0,0,0,0,0]
[null,{"$f":"Dashboard!E485","v":0},{"$f":"Dashboard!G485","v":0},0,0,0,0,0,0,0]
[null,{"$f":"Dashboard!E486","v":0},{"$f":"Dashboard!G486","v":0},0,0,0,0,0,0,0]
[null,{"$f":"Dashboard!E487","v":0},{"$f":"Dashboard!G487","v":0},0,0,0,0,0,0,0]
[null,{"$f":"Dashboard!E488","v":0},{"$f":"Dashboard!G488","v":0},0,0,0,0,0,0,0]
[null,{"$f":"Dashboard!E489","v":0},{"$f":"Dashboard!G489","v":0},0,0,0,0,0,0,0]
[null,{"$f":"Dashboard!E490","v":0},{"$f":"Dashboard!G490","v":0},0,0,0,0,0,0,0]
[null,{"$f":"Dashboard!E491","v":0},{"$f":"Dashboard!G491","v":0},0,0,0,0,0,0,0]
[null,{"$f":"Dashboard!E492","v":0},{"$f":"Dashboard!G492","v":0},0,0,0,0,0,0,0]
[null,{"$f":"Dashboard!E493","v":0},{"$f":"Dashboard!G493","v":0},0,0,0,0,0,0,0]
[null,{"$f":"Dashboard!E494","v":0},{"$f":"Dashboard!G494","v":0},0,0,0,0,0,0,0]
[null,{"$f":"Dashboard!E495","v":0},{"$f":"Dashboard!G495","v":0},0,0,0,0,0,0,0]
[null,{"$f":"Dashboard!E496","v":0},{"$f":"Dashboard!G496","v":0},0,0,0,0,0,0,0]
[null,{"$f":"Dashboard!E497","v":0},{"$f":"Dashboard!G497","v":0},0,0,0,0,0,0,0]
[null,{"$f":"Dashboard!E498","v":0},{"$f":"Dashboard!G498","v":0},0,0,0,0,0,0,0]
[null,{"$f":"Dashboard!E499","v":0},{"$f":"Dashboard!G499","v":0},0,0,0,0,0,0,0]
[null,{"$f":"Dashboard!E500","v":0},{"$f":"Dashboard!G500","v":0},0,0,0,0,0,0,0]
[null,{"$f":"Dashboard!E501","v":0},{"$f":"Dashboard!G501","v":0},0,0,0,0,0,0,0]
[null,{"$f":"Dashboard!E502","v":0},{"$f":"Dashboard!G502","v":0},0,0,0,0,0,0,0]
[null,{"$f":"Dashboard!E503","v":0},{"$f":"Dashboard!G503","v":0},0,0,0,0,0,0,0]
[null,{"$f":"Dashboard!E504","v":0},{"$f":"Dashboard!G504","v":0},0,0,0,0,0,0,0]
[null,{"$f":"Dashboard!E505","v":0},{"$f":"Dashboard!G505","v":0},0,0,0,0,0,0,0]
[null,{"$f":"Dashboard!E506","v":0},{"$f":"Dashboard!G506","v":0},0,0,0,0,0,0,0]
[null,{"$f":"Dashboard!E507","v":0},{"$f":"Dashboard!G507","v":0},0,0,0,0,0,0,0]
[null,{"$f":"Dashboard!E508","v":0},{"$f":"Dashboard!G508","v":0},0,0,0,0,0,0,0]
[null,{"$f":"Dashboard!E509","v":0},{"$f":"Dashboard!G509","v":0},0,0,0,0,0,0,0]
[null,{"$f":"Dashboard!E510","v":0},{"$f":"Dashboard!G510","v":0},0,0,0,0,0,0,0]
[null,{"$f":"Dashboard!E511","v":0},{"$f":"Dashboard!G511","v":0},0,0,0,0,0,0,0]
[null,{"$f":"Dashboard!E512","v":0},{"$f":"Dashboard!G512","v":0},0,0,0,0,0,0,0]
[null,{"$f":"Dashboard!E513","v":0},{"$f":"Dashboard!G513","v":0},0,0,0,0,0,0,0]
[null,{"$f":"Dashboard!E514","v":0},{"$f":"Dashboard!G514","v":0},0,0,0,0,0,0,0]
[null,{"$f":"Dashboard!E515","v":0},{"$f":"Dashboard!G515","v":0},5,0,0,0,0,0,0]
[null,{"$f":"Dashboard!E516","v":0},{"$f":"Dashboard!G516","v":0},0,0,0,0,0,0,0]
[null,{"$f":"Dashboard!E517","v":0},{"$f":"Dashboard!G517","v":0},0,0,0,0,0,0,0]
[null,{"$f":"Dashboard!E518","v":0},{"$f":"Dashboard!G518","v":0},0,0,0,0,0,0,0]
[null,{"$f":"Dashboard!E519","v":0},{"$f":"Dashboard!G519","v":0},0,0,0,0,0,0,0]
[null,{"$f":"Dashboard!E520","v":0},{"$f":"Dashboard!G520","v":0},0,0,0,0,0,0,0]
[null,{"$f":"Dashboard!E521","v":0},{"$f":"Dashboard!G521","v":0},0,0,0,0,0,0,0]

{"sheet":"MembershipCard","index":2,"n_rows":503,"n_cols":7,"rows_kept":503,"cut":false,"hidden":false,"merged":[]}
[null,"Membership Card"]
[]
[]
[null,{"$f":"Dashboard!E22","v":"Member Name"},{"$f":"Dashboard!F22","v":"Role"},{"$f":"Dashboard!G22","v":"Membership Number"},"Status","Issue Date"]
[null,{"$f":"Dashboard!E23","v":"Fred Barrett"},{"$f":"Dashboard!F23","v":"President"},{"$f":"Dashboard!G23","v":1},"Received"]
[null,{"$f":"Dashboard!E24","v":"Glenn Ternent BEM"},"Member",{"$f":"Dashboard!G24","v":2},"Received"]
[null,{"$f":"Dashboard!E25","v":"Robert Newman"},"Member",{"$f":"Dashboard!G25","v":3},"Received"]
[null,{"$f":"Dashboard!E26","v":"The Rev. Sean Sheffield"},{"$f":"Dashboard!F26","v":"Padre"},{"$f":"Dashboard!G26","v":4},"Received"]
[null,{"$f":"Dashboard!E27","v":"Tony Killelay"},{"$f":"Dashboard!F27","v":"Treasurer"},{"$f":"Dashboard!G27","v":5},"Received"]
[null,{"$f":"Dashboard!E28","v":"George Nash"},{"$f":"Dashboard!F28","v":"Entertainments"},{"$f":"Dashboard!G28","v":6},"Received"]
[null,{"$f":"Dashboard!E29","v":"Gary Howe"},{"$f":"Dashboard!F29","v":"Membership Coord"},{"$f":"Dashboard!G29","v":7},"Received"]
[null,{"$f":"Dashboard!E30","v":"Peter Thomson"},"Secretary",{"$f":"Dashboard!G30","v":8},"Received",null,"order"]
[null,{"$f":"Dashboard!E31","v":"Tommy Love"},{"$f":"Dashboard!F31","v":"DDC Memorials/Remembrance"},{"$f":"Dashboard!G31","v":9},"Received"]
[null,{"$f":"Dashboard!E32","v":"Ray Seabrook"},{"$f":"Dashboard!F32","v":"SSAFFA"},{"$f":"Dashboard!G32","v":10},"Received"]
[null,{"$f":"Dashboard!E33","v":"Christopher Clifford"},{"$f":"Dashboard!F33","v":"Member"},{"$f":"Dashboard!G33","v":11},"Received"]
[null,{"$f":"Dashboard!E34","v":"Christopher Crosby"},{"$f":"Dashboard!F34","v":"Member"},{"$f":"Dashboard!G34","v":12},"Received"]
[null,{"$f":"Dashboard!E35","v":"Danny Dowling"},{"$f":"Dashboard!F35","v":"Member"},{"$f":"Dashboard!G35","v":13},"Received"]
[null,{"$f":"Dashboard!E36","v":"Patrick Edwards"},{"$f":"Dashboard!F36","v":"Member"},{"$f":"Dashboard!G36","v":14},"Received"]
[null,{"$f":"Dashboard!E37","v":"Brian Farndell"},{"$f":"Dashboard!F37","v":"Member"},{"$f":"Dashboard!G37","v":15},"Received"]
[null,{"$f":"Dashboard!E38","v":"Syd Hopgood"},{"$f":"Dashboard!F38","v":"Member"},{"$f":"Dashboard!G38","v":16},"Received"]
[null,{"$f":"Dashboard!E39","v":"Kenneth Houlker"},{"$f":"Dashboard!F39","v":"Member"},{"$f":"Dashboard!G39","v":17},"Received"]
[null,{"$f":"Dashboard!E40","v":"Dave Ivatt"},"Chairman",{"$f":"Dashboard!G40","v":18},"Received",null,"order"]
[null,{"$f":"Dashboard!E41","v":"Kevin James"},{"$f":"Dashboard!F41","v":"Member"},{"$f":"Dashboard!G41","v":19},"Received"]
[null,{"$f":"Dashboard!E42","v":"David Knowles"},{"$f":"Dashboard!F42","v":"Member"},{"$f":"Dashboard!G42","v":20},"Received"]
[null,{"$f":"Dashboard!E43","v":"Tony Milner"},{"$f":"Dashboard!F43","v":"Member"},{"$f":"Dashboard!G43","v":21},"Received"]
[null,{"$f":"Dashboard!E44","v":"Steve Milsom"},{"$f":"Dashboard!F44","v":"Member"},{"$f":"Dashboard!G44","v":22},"Received"]
[null,{"$f":"Dashboard!E45","v":"Winston Ng A Mann"},{"$f":"Dashboard!F45","v":"Member"},{"$f":"Dashboard!G45","v":23},"Received"]
[null,{"$f":"Dashboard!E46","v":"Andy Redman"},{"$f":"Dashboard!F46","v":"Member"},{"$f":"Dashboard!G46","v":24},"Received"]
[null,{"$f":"Dashboard!E47","v":"Alan Stow"},{"$f":"Dashboard!F47","v":"Member"},{"$f":"Dashboard!G47","v":25},"Received"]
[null,{"$f":"Dashboard!E48","v":"Dave Timms"},{"$f":"Dashboard!F48","v":"Member"},{"$f":"Dashboard!G48","v":26},"Received"]
[null,{"$f":"Dashboard!E49","v":"Gary Tingey"},{"$f":"Dashboard!F49","v":"Member"},{"$f":"Dashboard!G49","v":27},"Received"]
[null,{"$f":"Dashboard!E50","v":"Don Whitehead"},{"$f":"Dashboard!F50","v":"Member"},{"$f":"Dashboard!G50","v":28},"Received"]
[null,{"$f":"Dashboard!E51","v":"Jason Ridley"},{"$f":"Dashboard!F51","v":"Member"},{"$f":"Dashboard!G51","v":29},"Received"]
[null,{"$f":"Dashboard!E52","v":"Brian Avery Smith"},{"$f":"Dashboard!F52","v":"Member"},{"$f":"Dashboard!G52","v":30},"Received"]
[null,{"$f":"Dashboard!E53","v":"James  Barrett"},{"$f":"Dashboard!F53","v":"Member"},{"$f":"Dashboard!G53","v":31},"Received"]
[null,{"$f":"Dashboard!E54","v":"David Benneyworth"},{"$f":"Dashboard!F54","v":"Member"},{"$f":"Dashboard!G54","v":32},"Received"]
[null,{"$f":"Dashboard!E55","v":"John Cowie"},{"$f":"Dashboard!F55","v":"Member"},{"$f":"Dashboard!G55","v":33},"Received"]
[null,{"$f":"Dashboard!E56","v":"Neil Paine"},{"$f":"Dashboard!F56","v":"Member"},{"$f":"Dashboard!G56","v":34},"Received"]
[null,{"$f":"Dashboard!E57","v":"Simon Jarrams"},{"$f":"Dashboard!F57","v":"Member"},{"$f":"Dashboard!G57","v":35},"Received"]
[null,{"$f":"Dashboard!E58","v":"Errol Banks"},{"$f":"Dashboard!F58","v":"Member"},{"$f":"Dashboard!G58","v":36},"Received"]
[null,{"$f":"Dashboard!E59","v":"Frances Forest Holden"},{"$f":"Dashboard!F59","v":"Member"},{"$f":"Dashboard!G59","v":37},"Received"]
[null,{"$f":"Dashboard!E60","v":"Jemma Henderson"},{"$f":"Dashboard!F60","v":"Member"},{"$f":"Dashboard!G60","v":38},"Received"]
[null,{"$f":"Dashboard!E61","v":"Rodney Gray"},{"$f":"Dashboard!F61","v":"Member"},{"$f":"Dashboard!G61","v":39},"Received"]
[null,{"$f":"Dashboard!E62","v":"Kevin Mulvaney"},{"$f":"Dashboard!F62","v":"Member"},{"$f":"Dashboard!G62","v":40},"Received"]
[null,{"$f":"Dashboard!E63","v":"James McMahon"},{"$f":"Dashboard!F63","v":"Member"},{"$f":"Dashboard!G63","v":41},"Received"]
[null,{"$f":"Dashboard!E64","v":"Andrew Dyer"},{"$f":"Dashboard!F64","v":"Member"},{"$f":"Dashboard!G64","v":42},"Received"]
[null,{"$f":"Dashboard!E65","v":"Denis Waters"},{"$f":"Dashboard!F65","v":"Member"},{"$f":"Dashboard!G65","v":43},"Received"]
[null,{"$f":"Dashboard!E66","v":"Jeff Chittleburgh"},{"$f":"Dashboard!F66","v":"Member"},{"$f":"Dashboard!G66","v":44},"To do",null,"Order"]
[null,{"$f":"Dashboard!E67","v":"John Cousins"},{"$f":"Dashboard!F67","v":"Member"},{"$f":"Dashboard!G67","v":45},"Received"]
[null,{"$f":"Dashboard!E68","v":"Kevin Arnell"},{"$f":"Dashboard!F68","v":"Member"},{"$f":"Dashboard!G68","v":46},"Received"]
[null,{"$f":"Dashboard!E69","v":"John Harknett"},{"$f":"Dashboard!F69","v":"Member"},{"$f":"Dashboard!G69","v":47},"Received"]
[null,{"$f":"Dashboard!E70","v":"Paul Axtell"},{"$f":"Dashboard!F70","v":"Member"},{"$f":"Dashboard!G70","v":48},"Received"]
[null,{"$f":"Dashboard!E71","v":"Shaun Burford"},{"$f":"Dashboard!F71","v":"Member"},{"$f":"Dashboard!G71","v":49},"Received"]
[null,{"$f":"Dashboard!E72","v":"Stuart Outred"},{"$f":"Dashboard!F72","v":"Member"},{"$f":"Dashboard!G72","v":50},"Received"]
[null,{"$f":"Dashboard!E73","v":"Stuart Stephenson"},{"$f":"Dashboard!F73","v":"Member"},{"$f":"Dashboard!G73","v":51},"Received"]
[null,{"$f":"Dashboard!E74","v":"Phil Critchley"},{"$f":"Dashboard!F74","v":"Member"},{"$f":"Dashboard!G74","v":52},"Received"]
[null,{"$f":"Dashboard!E75","v":"Ernie Pennock"},{"$f":"Dashboard!F75","v":"Member"},{"$f":"Dashboard!G75","v":53},"Received"]
[null,{"$f":"Dashboard!E76","v":"James Mathews"},{"$f":"Dashboard!F76","v":"Member"},{"$f":"Dashboard!G76","v":54},"Received"]
[null,{"$f":"Dashboard!E77","v":"Derek Brooks "},{"$f":"Dashboard!F77","v":"Member"},{"$f":"Dashboard!G77","v":55},"Received"]
[null,{"$f":"Dashboard!E78","v":"Reg Longhurst"},{"$f":"Dashboard!F78","v":"Member"},{"$f":"Dashboard!G78","v":56},"Received"]
[null,{"$f":"Dashboard!E79","v":"Mo Boyton"},{"$f":"Dashboard!F79","v":"Member"},{"$f":"Dashboard!G79","v":57},"Received"]
[null,{"$f":"Dashboard!E80","v":"Steve Ashton"},{"$f":"Dashboard!F80","v":"Member"},{"$f":"Dashboard!G80","v":58},"Received"]
[null,{"$f":"Dashboard!E81","v":"Jeffrey Alexander"},{"$f":"Dashboard!F81","v":"Associate Member"},{"$f":"Dashboard!G81","v":59},"Received"]
[null,{"$f":"Dashboard!E82","v":"Norman Clark"},{"$f":"Dashboard!F82","v":"Associate Member"},{"$f":"Dashboard!G82","v":60},"Received"]
[null,{"$f":"Dashboard!E83","v":"Peter Drew"},{"$f":"Dashboard!F83","v":"Associate Member"},{"$f":"Dashboard!G83","v":61},"Received"]
[null,{"$f":"Dashboard!E84","v":"Kevin Goodwin"},{"$f":"Dashboard!F84","v":"Associate Member"},{"$f":"Dashboard!G84","v":62},"Received"]
[null,{"$f":"Dashboard!E85","v":"Tony Ward"},{"$f":"Dashboard!F85","v":"Associate Member"},{"$f":"Dashboard!G85","v":63},"Received"]
[null,{"$f":"Dashboard!E86","v":"Barbara Barrett"},{"$f":"Dashboard!F86","v":"Honorary Member"},{"$f":"Dashboard!G86","v":64},"Received"]
[null,{"$f":"Dashboard!E87","v":"Mo Doherty"},{"$f":"Dashboard!F87","v":"Honorary Member"},{"$f":"Dashboard!G87","v":65},"Received"]
[null,{"$f":"Dashboard!E88","v":"Heather Love"},{"$f":"Dashboard!F88","v":"Honorary Member"},{"$f":"Dashboard!G88","v":66},"Received"]
[null,{"$f":"Dashboard!E89","v":"John Carter"},{"$f":"Dashboard!F89","v":"Member"},{"$f":"Dashboard!G89","v":67},"Received"]
[null,{"$f":"Dashboard!E90","v":"Phil Hacket"},{"$f":"Dashboard!F90","v":"Member"},{"$f":"Dashboard!G90","v":68},"Received"]
[null,{"$f":"Dashboard!E91","v":"Aran McGee"},{"$f":"Dashboard!F91","v":"Member"},{"$f":"Dashboard!G91","v":69},"Received"]
[null,{"$f":"Dashboard!E92","v":"William Trotter"},{"$f":"Dashboard!F92","v":"Member"},{"$f":"Dashboard!G92","v":70},"Received"]
[null,{"$f":"Dashboard!E93","v":"Tony Jones"},{"$f":"Dashboard!F93","v":"Member"},{"$f":"Dashboard!G93","v":71},"Received"]
[null,{"$f":"Dashboard!E94","v":"Stuart Holland"},{"$f":"Dashboard!F94","v":"Member"},{"$f":"Dashboard!G94","v":72},"Received"]
[null,{"$f":"Dashboard!E95","v":"William Holland"},{"$f":"Dashboard!F95","v":"Member"},{"$f":"Dashboard!G95","v":73},"Received"]
[null,{"$f":"Dashboard!E96","v":"Paul Sengelow"},{"$f":"Dashboard!F96","v":"Member"},{"$f":"Dashboard!G96","v":74},"Received"]
[null,{"$f":"Dashboard!E97","v":"Dave Povah"},{"$f":"Dashboard!F97","v":"Member"},{"$f":"Dashboard!G97","v":75},"Received"]
[null,{"$f":"Dashboard!E98","v":"George Banks"},{"$f":"Dashboard!F98","v":"Member"},{"$f":"Dashboard!G98","v":76},"Received"]
[null,{"$f":"Dashboard!E99","v":"Jerry Lyons"},{"$f":"Dashboard!F99","v":"Member"},{"$f":"Dashboard!G99","v":77},"Received"]
[null,{"$f":"Dashboard!E100","v":"Jimmy Matthews"},{"$f":"Dashboard!F100","v":"Member"},{"$f":"Dashboard!G100","v":78},"Received"]
[null,{"$f":"Dashboard!E101","v":"Liam Trevelyan"},{"$f":"Dashboard!F101","v":"Member"},{"$f":"Dashboard!G101","v":79},"Received"]
[null,{"$f":"Dashboard!E102","v":"John Hartell"},{"$f":"Dashboard!F102","v":"Member"},{"$f":"Dashboard!G102","v":80},"Received"]
[null,{"$f":"Dashboard!E103","v":"Marc Borley"},{"$f":"Dashboard!F103","v":"Member"},{"$f":"Dashboard!G103","v":81},"Received"]
[null,{"$f":"Dashboard!E104","v":"Daniel Basden"},{"$f":"Dashboard!F104","v":"Member"},{"$f":"Dashboard!G104","v":82},"Received"]
[null,{"$f":"Dashboard!E105","v":"Billy Field"},{"$f":"Dashboard!F105","v":"Member"},{"$f":"Dashboard!G105","v":83},"Received"]
[null,{"$f":"Dashboard!E106","v":"John Clayton"},{"$f":"Dashboard!F106","v":"Member"},{"$f":"Dashboard!G106","v":84},"To Order",null,"Re Order"]
[null,"Colin Leavers",{"$f":"Dashboard!F107","v":"Member"},{"$f":"Dashboard!G107","v":85},"To Order",null,"To Order"]
[null,{"$f":"Dashboard!E108","v":"Robert Griffiths"},{"$f":"Dashboard!F108","v":"Member"},{"$f":"Dashboard!G108","v":86},"Received"]
[null,{"$f":"Dashboard!E109","v":"John Cleaves"},{"$f":"Dashboard!F109","v":"Member"},{"$f":"Dashboard!G109","v":87},"Received"]
[null,{"$f":"Dashboard!E110","v":"Ray Aston"},{"$f":"Dashboard!F110","v":"Member"},{"$f":"Dashboard!G110","v":88},"Received"]
[null,{"$f":"Dashboard!E111","v":"John Ward"},{"$f":"Dashboard!F111","v":"Member"},{"$f":"Dashboard!G111","v":89},"Received"]
[null,{"$f":"Dashboard!E112","v":"Simon Brown"},{"$f":"Dashboard!F112","v":"Member"},{"$f":"Dashboard!G112","v":90},"Received"]
[null,{"$f":"Dashboard!E113","v":"Simon Rose"},{"$f":"Dashboard!F113","v":"Member"},{"$f":"Dashboard!G113","v":91},"Received"]
[null,{"$f":"Dashboard!E114","v":"Steve Rose"},{"$f":"Dashboard!F114","v":"Member"},{"$f":"Dashboard!G114","v":92},"Received"]
[null,{"$f":"Dashboard!E115","v":"Shane Stone"},{"$f":"Dashboard!F115","v":"Member"},{"$f":"Dashboard!G115","v":93},"Received"]
[null,{"$f":"Dashboard!E116","v":"Richard Rattigan"},{"$f":"Dashboard!F116","v":"Member"},{"$f":"Dashboard!G116","v":94},null,null,"To Order"]
[null,{"$f":"Dashboard!E117","v":"Nobby Clark"},{"$f":"Dashboard!F117","v":"Member"},{"$f":"Dashboard!G117","v":95},"Received"]
[null,{"$f":"Dashboard!E118","v":"Peter Bettis"},{"$f":"Dashboard!F118","v":"Member"},{"$f":"Dashboard!G118","v":96},"Received"]
[null,{"$f":"Dashboard!E119","v":0},{"$f":"Dashboard!F119","v":0},{"$f":"Dashboard!G119","v":0}]
[null,{"$f":"Dashboard!E120","v":0},{"$f":"Dashboard!F120","v":0},{"$f":"Dashboard!G120","v":0}]
[null,{"$f":"Dashboard!E121","v":0},{"$f":"Dashboard!F121","v":0},{"$f":"Dashboard!G121","v":0}]
[null,{"$f":"Dashboard!E122","v":0},{"$f":"Dashboard!F122","v":0},{"$f":"Dashboard!G122","v":0}]
[null,{"$f":"Dashboard!E123","v":0},{"$f":"Dashboard!F123","v":0},{"$f":"Dashboard!G123","v":0}]
[null,{"$f":"Dashboard!E124","v":0},{"$f":"Dashboard!F124","v":0},{"$f":"Dashboard!G124","v":0}]
[null,{"$f":"Dashboard!E125","v":0},{"$f":"Dashboard!F125","v":0},{"$f":"Dashboard!G125","v":0}]
[null,{"$f":"Dashboard!E126","v":0},{"$f":"Dashboard!F126","v":0},{"$f":"Dashboard!G126","v":0}]
[null,{"$f":"Dashboard!E127","v":0},{"$f":"Dashboard!F127","v":0},{"$f":"Dashboard!G127","v":0}]
[null,{"$f":"Dashboard!E128","v":0},{"$f":"Dashboard!F128","v":0},{"$f":"Dashboard!G128","v":0}]
[null,{"$f":"Dashboard!E129","v":0},{"$f":"Dashboard!F129","v":0},{"$f":"Dashboard!G129","v":0}]
[null,{"$f":"Dashboard!E130","v":0},{"$f":"Dashboard!F130","v":0},{"$f":"Dashboard!G130","v":0}]
[null,{"$f":"Dashboard!E131","v":0},{"$f":"Dashboard!F131","v":0},{"$f":"Dashboard!G131","v":0}]
[null,{"$f":"Dashboard!E132","v":0},{"$f":"Dashboard!F132","v":0},{"$f":"Dashboard!G132","v":0}]
[null,{"$f":"Dashboard!E133","v":0},{"$f":"Dashboard!F133","v":0},{"$f":"Dashboard!G133","v":0}]
[null,{"$f":"Dashboard!E134","v":0},{"$f":"Dashboard!F134","v":0},{"$f":"Dashboard!G134","v":0}]
[null,{"$f":"Dashboard!E135","v":0},{"$f":"Dashboard!F135","v":0},{"$f":"Dashboard!G135","v":0}]
[null,{"$f":"Dashboard!E136","v":0},{"$f":"Dashboard!F136","v":0},{"$f":"Dashboard!G136","v":0}]
[null,{"$f":"Dashboard!E137","v":0},{"$f":"Dashboard!F137","v":0},{"$f":"Dashboard!G137","v":0}]
[null,{"$f":"Dashboard!E138","v":0},{"$f":"Dashboard!F138","v":0},{"$f":"Dashboard!G138","v":0}]
[null,{"$f":"Dashboard!E139","v":0},{"$f":"Dashboard!F139","v":0},{"$f":"Dashboard!G139","v":0}]
[null,{"$f":"Dashboard!E140","v":0},{"$f":"Dashboard!F140","v":0},{"$f":"Dashboard!G140","v":0}]
[null,{"$f":"Dashboard!E141","v":0},{"$f":"Dashboard!F141","v":0},{"$f":"Dashboard!G141","v":0}]
[null,{"$f":"Dashboard!E142","v":0},{"$f":"Dashboard!F142","v":0},{"$f":"Dashboard!G142","v":0}]
[null,{"$f":"Dashboard!E143","v":0},{"$f":"Dashboard!F143","v":0},{"$f":"Dashboard!G143","v":0}]
[null,{"$f":"Dashboard!E144","v":0},{"$f":"Dashboard!F144","v":0},{"$f":"Dashboard!G144","v":0}]
[null,{"$f":"Dashboard!E145","v":0},{"$f":"Dashboard!F145","v":0},{"$f":"Dashboard!G145","v":0}]
[null,{"$f":"Dashboard!E146","v":0},{"$f":"Dashboard!F146","v":0},{"$f":"Dashboard!G146","v":0}]
[null,{"$f":"Dashboard!E147","v":0},{"$f":"Dashboard!F147","v":0},{"$f":"Dashboard!G147","v":0}]
[null,{"$f":"Dashboard!E148","v":0},{"$f":"Dashboard!F148","v":0},{"$f":"Dashboard!G148","v":0}]
[null,{"$f":"Dashboard!E149","v":0},{"$f":"Dashboard!F149","v":0},{"$f":"Dashboard!G149","v":0}]
[null,{"$f":"Dashboard!E150","v":0},{"$f":"Dashboard!F150","v":0},{"$f":"Dashboard!G150","v":0}]
[null,{"$f":"Dashboard!E151","v":0},{"$f":"Dashboard!F151","v":0},{"$f":"Dashboard!G151","v":0}]
[null,{"$f":"Dashboard!E152","v":0},{"$f":"Dashboard!F152","v":0},{"$f":"Dashboard!G152","v":0}]
[null,{"$f":"Dashboard!E153","v":0},{"$f":"Dashboard!F153","v":0},{"$f":"Dashboard!G153","v":0}]
[null,{"$f":"Dashboard!E154","v":0},{"$f":"Dashboard!F154","v":0},{"$f":"Dashboard!G154","v":0}]
[null,{"$f":"Dashboard!E155","v":0},{"$f":"Dashboard!F155","v":0},{"$f":"Dashboard!G155","v":0}]
[null,{"$f":"Dashboard!E156","v":0},{"$f":"Dashboard!F156","v":0},{"$f":"Dashboard!G156","v":0}]
[null,{"$f":"Dashboard!E157","v":0},{"$f":"Dashboard!F157","v":0},{"$f":"Dashboard!G157","v":0}]
[null,{"$f":"Dashboard!E158","v":0},{"$f":"Dashboard!F158","v":0},{"$f":"Dashboard!G158","v":0}]
[null,{"$f":"Dashboard!E159","v":0},{"$f":"Dashboard!F159","v":0},{"$f":"Dashboard!G159","v":0}]
[null,{"$f":"Dashboard!E160","v":0},{"$f":"Dashboard!F160","v":0},{"$f":"Dashboard!G160","v":0}]
[null,{"$f":"Dashboard!E161","v":0},{"$f":"Dashboard!F161","v":0},{"$f":"Dashboard!G161","v":0}]
[null,{"$f":"Dashboard!E162","v":0},{"$f":"Dashboard!F162","v":0},{"$f":"Dashboard!G162","v":0}]
[null,{"$f":"Dashboard!E163","v":0},{"$f":"Dashboard!F163","v":0},{"$f":"Dashboard!G163","v":0}]
[null,{"$f":"Dashboard!E164","v":0},{"$f":"Dashboard!F164","v":0},{"$f":"Dashboard!G164","v":0}]
[null,{"$f":"Dashboard!E165","v":0},{"$f":"Dashboard!F165","v":0},{"$f":"Dashboard!G165","v":0}]
[null,{"$f":"Dashboard!E166","v":0},{"$f":"Dashboard!F166","v":0},{"$f":"Dashboard!G166","v":0}]
[null,{"$f":"Dashboard!E167","v":0},{"$f":"Dashboard!F167","v":0},{"$f":"Dashboard!G167","v":0}]
[null,{"$f":"Dashboard!E168","v":0},{"$f":"Dashboard!F168","v":0},{"$f":"Dashboard!G168","v":0}]
[null,{"$f":"Dashboard!E169","v":0},{"$f":"Dashboard!F169","v":0},{"$f":"Dashboard!G169","v":0}]
[null,{"$f":"Dashboard!E170","v":0},{"$f":"Dashboard!F170","v":0},{"$f":"Dashboard!G170","v":0}]
[null,{"$f":"Dashboard!E171","v":0},{"$f":"Dashboard!F171","v":0},{"$f":"Dashboard!G171","v":0}]
[null,{"$f":"Dashboard!E172","v":0},{"$f":"Dashboard!F172","v":0},{"$f":"Dashboard!G172","v":0}]
[null,{"$f":"Dashboard!E173","v":0},{"$f":"Dashboard!F173","v":0},{"$f":"Dashboard!G173","v":0}]
[null,{"$f":"Dashboard!E174","v":0},{"$f":"Dashboard!F174","v":0},{"$f":"Dashboard!G174","v":0}]
[null,{"$f":"Dashboard!E175","v":0},{"$f":"Dashboard!F175","v":0},{"$f":"Dashboard!G175","v":0}]
[null,{"$f":"Dashboard!E176","v":0},{"$f":"Dashboard!F176","v":0},{"$f":"Dashboard!G176","v":0}]
[null,{"$f":"Dashboard!E177","v":0},{"$f":"Dashboard!F177","v":0},{"$f":"Dashboard!G177","v":0}]
[null,{"$f":"Dashboard!E178","v":0},{"$f":"Dashboard!F178","v":0},{"$f":"Dashboard!G178","v":0}]
[null,{"$f":"Dashboard!E179","v":0},{"$f":"Dashboard!F179","v":0},{"$f":"Dashboard!G179","v":0}]
[null,{"$f":"Dashboard!E180","v":0},{"$f":"Dashboard!F180","v":0},{"$f":"Dashboard!G180","v":0}]
[null,{"$f":"Dashboard!E181","v":0},{"$f":"Dashboard!F181","v":0},{"$f":"Dashboard!G181","v":0}]
[null,{"$f":"Dashboard!E182","v":0},{"$f":"Dashboard!F182","v":0},{"$f":"Dashboard!G182","v":0}]
[null,{"$f":"Dashboard!E183","v":0},{"$f":"Dashboard!F183","v":0},{"$f":"Dashboard!G183","v":0}]
[null,{"$f":"Dashboard!E184","v":0},{"$f":"Dashboard!F184","v":0},{"$f":"Dashboard!G184","v":0}]
[null,{"$f":"Dashboard!E185","v":0},{"$f":"Dashboard!F185","v":0},{"$f":"Dashboard!G185","v":0}]
[null,{"$f":"Dashboard!E186","v":0},{"$f":"Dashboard!F186","v":0},{"$f":"Dashboard!G186","v":0}]
[null,{"$f":"Dashboard!E187","v":0},{"$f":"Dashboard!F187","v":0},{"$f":"Dashboard!G187","v":0}]
[null,{"$f":"Dashboard!E188","v":0},{"$f":"Dashboard!F188","v":0},{"$f":"Dashboard!G188","v":0}]
[null,{"$f":"Dashboard!E189","v":0},{"$f":"Dashboard!F189","v":0},{"$f":"Dashboard!G189","v":0}]
[null,{"$f":"Dashboard!E190","v":0},{"$f":"Dashboard!F190","v":0},{"$f":"Dashboard!G190","v":0}]
[null,{"$f":"Dashboard!E191","v":0},{"$f":"Dashboard!F191","v":0},{"$f":"Dashboard!G191","v":0}]
[null,{"$f":"Dashboard!E192","v":0},{"$f":"Dashboard!F192","v":0},{"$f":"Dashboard!G192","v":0}]
[null,{"$f":"Dashboard!E193","v":0},{"$f":"Dashboard!F193","v":0},{"$f":"Dashboard!G193","v":0}]
[null,{"$f":"Dashboard!E194","v":0},{"$f":"Dashboard!F194","v":0},{"$f":"Dashboard!G194","v":0}]
[null,{"$f":"Dashboard!E195","v":0},{"$f":"Dashboard!F195","v":0},{"$f":"Dashboard!G195","v":0}]
[null,{"$f":"Dashboard!E196","v":0},{"$f":"Dashboard!F196","v":0},{"$f":"Dashboard!G196","v":0}]
[null,{"$f":"Dashboard!E197","v":0},{"$f":"Dashboard!F197","v":0},{"$f":"Dashboard!G197","v":0}]
[null,{"$f":"Dashboard!E198","v":0},{"$f":"Dashboard!F198","v":0},{"$f":"Dashboard!G198","v":0}]
[null,{"$f":"Dashboard!E199","v":0},{"$f":"Dashboard!F199","v":0},{"$f":"Dashboard!G199","v":0}]
[null,{"$f":"Dashboard!E200","v":0},{"$f":"Dashboard!F200","v":0},{"$f":"Dashboard!G200","v":0}]
[null,{"$f":"Dashboard!E201","v":0},{"$f":"Dashboard!F201","v":0},{"$f":"Dashboard!G201","v":0}]
[null,{"$f":"Dashboard!E202","v":0},{"$f":"Dashboard!F202","v":0},{"$f":"Dashboard!G202","v":0}]
[null,{"$f":"Dashboard!E203","v":0},{"$f":"Dashboard!F203","v":0},{"$f":"Dashboard!G203","v":0}]
[null,{"$f":"Dashboard!E204","v":0},{"$f":"Dashboard!F204","v":0},{"$f":"Dashboard!G204","v":0}]
[null,{"$f":"Dashboard!E205","v":0},{"$f":"Dashboard!F205","v":0},{"$f":"Dashboard!G205","v":0}]
[null,{"$f":"Dashboard!E206","v":0},{"$f":"Dashboard!F206","v":0},{"$f":"Dashboard!G206","v":0}]
[null,{"$f":"Dashboard!E207","v":0},{"$f":"Dashboard!F207","v":0},{"$f":"Dashboard!G207","v":0}]
[null,{"$f":"Dashboard!E208","v":0},{"$f":"Dashboard!F208","v":0},{"$f":"Dashboard!G208","v":0}]
[null,{"$f":"Dashboard!E209","v":0},{"$f":"Dashboard!F209","v":0},{"$f":"Dashboard!G209","v":0}]
[null,{"$f":"Dashboard!E210","v":0},{"$f":"Dashboard!F210","v":0},{"$f":"Dashboard!G210","v":0}]
[null,{"$f":"Dashboard!E211","v":0},{"$f":"Dashboard!F211","v":0},{"$f":"Dashboard!G211","v":0}]
[null,{"$f":"Dashboard!E212","v":0},{"$f":"Dashboard!F212","v":0},{"$f":"Dashboard!G212","v":0}]
[null,{"$f":"Dashboard!E213","v":0},{"$f":"Dashboard!F213","v":0},{"$f":"Dashboard!G213","v":0}]
[null,{"$f":"Dashboard!E214","v":0},{"$f":"Dashboard!F214","v":0},{"$f":"Dashboard!G214","v":0}]
[null,{"$f":"Dashboard!E215","v":0},{"$f":"Dashboard!F215","v":0},{"$f":"Dashboard!G215","v":0}]
[null,{"$f":"Dashboard!E216","v":0},{"$f":"Dashboard!F216","v":0},{"$f":"Dashboard!G216","v":0}]
[null,{"$f":"Dashboard!E217","v":0},{"$f":"Dashboard!F217","v":0},{"$f":"Dashboard!G217","v":0}]
[null,{"$f":"Dashboard!E218","v":0},{"$f":"Dashboard!F218","v":0},{"$f":"Dashboard!G218","v":0}]
[null,{"$f":"Dashboard!E219","v":0},{"$f":"Dashboard!F219","v":0},{"$f":"Dashboard!G219","v":0}]
[null,{"$f":"Dashboard!E220","v":0},{"$f":"Dashboard!F220","v":0},{"$f":"Dashboard!G220","v":0}]
[null,{"$f":"Dashboard!E221","v":0},{"$f":"Dashboard!F221","v":0},{"$f":"Dashboard!G221","v":0}]
[null,{"$f":"Dashboard!E222","v":0},{"$f":"Dashboard!F222","v":0},{"$f":"Dashboard!G222","v":0}]
[null,{"$f":"Dashboard!E223","v":0},{"$f":"Dashboard!F223","v":0},{"$f":"Dashboard!G223","v":0}]
[null,{"$f":"Dashboard!E224","v":0},{"$f":"Dashboard!F224","v":0},{"$f":"Dashboard!G224","v":0}]
[null,{"$f":"Dashboard!E225","v":0},{"$f":"Dashboard!F225","v":0},{"$f":"Dashboard!G225","v":0}]
[null,{"$f":"Dashboard!E226","v":0},{"$f":"Dashboard!F226","v":0},{"$f":"Dashboard!G226","v":0}]
[null,{"$f":"Dashboard!E227","v":0},{"$f":"Dashboard!F227","v":0},{"$f":"Dashboard!G227","v":0}]
[null,{"$f":"Dashboard!E228","v":0},{"$f":"Dashboard!F228","v":0},{"$f":"Dashboard!G228","v":0}]
[null,{"$f":"Dashboard!E229","v":0},{"$f":"Dashboard!F229","v":0},{"$f":"Dashboard!G229","v":0}]
[null,{"$f":"Dashboard!E230","v":0},{"$f":"Dashboard!F230","v":0},{"$f":"Dashboard!G230","v":0}]
[null,{"$f":"Dashboard!E231","v":0},{"$f":"Dashboard!F231","v":0},{"$f":"Dashboard!G231","v":0}]
[null,{"$f":"Dashboard!E232","v":0},{"$f":"Dashboard!F232","v":0},{"$f":"Dashboard!G232","v":0}]
[null,{"$f":"Dashboard!E233","v":0},{"$f":"Dashboard!F233","v":0},{"$f":"Dashboard!G233","v":0}]
[null,{"$f":"Dashboard!E234","v":0},{"$f":"Dashboard!F234","v":0},{"$f":"Dashboard!G234","v":0}]
[null,{"$f":"Dashboard!E235","v":0},{"$f":"Dashboard!F235","v":0},{"$f":"Dashboard!G235","v":0}]
[null,{"$f":"Dashboard!E236","v":0},{"$f":"Dashboard!F236","v":0},{"$f":"Dashboard!G236","v":0}]
[null,{"$f":"Dashboard!E237","v":0},{"$f":"Dashboard!F237","v":0},{"$f":"Dashboard!G237","v":0}]
[null,{"$f":"Dashboard!E238","v":0},{"$f":"Dashboard!F238","v":0},{"$f":"Dashboard!G238","v":0}]
[null,{"$f":"Dashboard!E239","v":0},{"$f":"Dashboard!F239","v":0},{"$f":"Dashboard!G239","v":0}]
[null,{"$f":"Dashboard!E240","v":0},{"$f":"Dashboard!F240","v":0},{"$f":"Dashboard!G240","v":0}]
[null,{"$f":"Dashboard!E241","v":0},{"$f":"Dashboard!F241","v":0},{"$f":"Dashboard!G241","v":0}]
[null,{"$f":"Dashboard!E242","v":0},{"$f":"Dashboard!F242","v":0},{"$f":"Dashboard!G242","v":0}]
[null,{"$f":"Dashboard!E243","v":0},{"$f":"Dashboard!F243","v":0},{"$f":"Dashboard!G243","v":0}]
[null,{"$f":"Dashboard!E244","v":0},{"$f":"Dashboard!F244","v":0},{"$f":"Dashboard!G244","v":0}]
[null,{"$f":"Dashboard!E245","v":0},{"$f":"Dashboard!F245","v":0},{"$f":"Dashboard!G245","v":0}]
[null,{"$f":"Dashboard!E246","v":0},{"$f":"Dashboard!F246","v":0},{"$f":"Dashboard!G246","v":0}]
[null,{"$f":"Dashboard!E247","v":0},{"$f":"Dashboard!F247","v":0},{"$f":"Dashboard!G247","v":0}]
[null,{"$f":"Dashboard!E248","v":0},{"$f":"Dashboard!F248","v":0},{"$f":"Dashboard!G248","v":0}]
[null,{"$f":"Dashboard!E249","v":0},{"$f":"Dashboard!F249","v":0},{"$f":"Dashboard!G249","v":0}]
[null,{"$f":"Dashboard!E250","v":0},{"$f":"Dashboard!F250","v":0},{"$f":"Dashboard!G250","v":0}]
[null,{"$f":"Dashboard!E251","v":0},{"$f":"Dashboard!F251","v":0},{"$f":"Dashboard!G251","v":0}]
[null,{"$f":"Dashboard!E252","v":0},{"$f":"Dashboard!F252","v":0},{"$f":"Dashboard!G252","v":0}]
[null,{"$f":"Dashboard!E253","v":0},{"$f":"Dashboard!F253","v":0},{"$f":"Dashboard!G253","v":0}]
[null,{"$f":"Dashboard!E254","v":0},{"$f":"Dashboard!F254","v":0},{"$f":"Dashboard!G254","v":0}]
[null,{"$f":"Dashboard!E255","v":0},{"$f":"Dashboard!F255","v":0},{"$f":"Dashboard!G255","v":0}]
[null,{"$f":"Dashboard!E256","v":0},{"$f":"Dashboard!F256","v":0},{"$f":"Dashboard!G256","v":0}]
[null,{"$f":"Dashboard!E257","v":0},{"$f":"Dashboard!F257","v":0},{"$f":"Dashboard!G257","v":0}]
[null,{"$f":"Dashboard!E258","v":0},{"$f":"Dashboard!F258","v":0},{"$f":"Dashboard!G258","v":0}]
[null,{"$f":"Dashboard!E259","v":0},{"$f":"Dashboard!F259","v":0},{"$f":"Dashboard!G259","v":0}]
[null,{"$f":"Dashboard!E260","v":0},{"$f":"Dashboard!F260","v":0},{"$f":"Dashboard!G260","v":0}]
[null,{"$f":"Dashboard!E261","v":0},{"$f":"Dashboard!F261","v":0},{"$f":"Dashboard!G261","v":0}]
[null,{"$f":"Dashboard!E262","v":0},{"$f":"Dashboard!F262","v":0},{"$f":"Dashboard!G262","v":0}]
[null,{"$f":"Dashboard!E263","v":0},{"$f":"Dashboard!F263","v":0},{"$f":"Dashboard!G263","v":0}]
[null,{"$f":"Dashboard!E264","v":0},{"$f":"Dashboard!F264","v":0},{"$f":"Dashboard!G264","v":0}]
[null,{"$f":"Dashboard!E265","v":0},{"$f":"Dashboard!F265","v":0},{"$f":"Dashboard!G265","v":0}]
[null,{"$f":"Dashboard!E266","v":0},{"$f":"Dashboard!F266","v":0},{"$f":"Dashboard!G266","v":0}]
[null,{"$f":"Dashboard!E267","v":0},{"$f":"Dashboard!F267","v":0},{"$f":"Dashboard!G267","v":0}]
[null,{"$f":"Dashboard!E268","v":0},{"$f":"Dashboard!F268","v":0},{"$f":"Dashboard!G268","v":0}]
[null,{"$f":"Dashboard!E269","v":0},{"$f":"Dashboard!F269","v":0},{"$f":"Dashboard!G269","v":0}]
[null,{"$f":"Dashboard!E270","v":0},{"$f":"Dashboard!F270","v":0},{"$f":"Dashboard!G270","v":0}]
[null,{"$f":"Dashboard!E271","v":0},{"$f":"Dashboard!F271","v":0},{"$f":"Dashboard!G271","v":0}]
[null,{"$f":"Dashboard!E272","v":0},{"$f":"Dashboard!F272","v":0},{"$f":"Dashboard!G272","v":0}]
[null,{"$f":"Dashboard!E273","v":0},{"$f":"Dashboard!F273","v":0},{"$f":"Dashboard!G273","v":0}]
[null,{"$f":"Dashboard!E274","v":0},{"$f":"Dashboard!F274","v":0},{"$f":"Dashboard!G274","v":0}]
[null,{"$f":"Dashboard!E275","v":0},{"$f":"Dashboard!F275","v":0},{"$f":"Dashboard!G275","v":0}]
[null,{"$f":"Dashboard!E276","v":0},{"$f":"Dashboard!F276","v":0},{"$f":"Dashboard!G276","v":0}]
[null,{"$f":"Dashboard!E277","v":0},{"$f":"Dashboard!F277","v":0},{"$f":"Dashboard!G277","v":0}]
[null,{"$f":"Dashboard!E278","v":0},{"$f":"Dashboard!F278","v":0},{"$f":"Dashboard!G278","v":0}]
[null,{"$f":"Dashboard!E279","v":0},{"$f":"Dashboard!F279","v":0},{"$f":"Dashboard!G279","v":0}]
[null,{"$f":"Dashboard!E280","v":0},{"$f":"Dashboard!F280","v":0},{"$f":"Dashboard!G280","v":0}]
[null,{"$f":"Dashboard!E281","v":0},{"$f":"Dashboard!F281","v":0},{"$f":"Dashboard!G281","v":0}]
[null,{"$f":"Dashboard!E282","v":0},{"$f":"Dashboard!F282","v":0},{"$f":"Dashboard!G282","v":0}]
[null,{"$f":"Dashboard!E283","v":0},{"$f":"Dashboard!F283","v":0},{"$f":"Dashboard!G283","v":0}]
[null,{"$f":"Dashboard!E284","v":0},{"$f":"Dashboard!F284","v":0},{"$f":"Dashboard!G284","v":0}]
[null,{"$f":"Dashboard!E285","v":0},{"$f":"Dashboard!F285","v":0},{"$f":"Dashboard!G285","v":0}]
[null,{"$f":"Dashboard!E286","v":0},{"$f":"Dashboard!F286","v":0},{"$f":"Dashboard!G286","v":0}]
[null,{"$f":"Dashboard!E287","v":0},{"$f":"Dashboard!F287","v":0},{"$f":"Dashboard!G287","v":0}]
[null,{"$f":"Dashboard!E288","v":0},{"$f":"Dashboard!F288","v":0},{"$f":"Dashboard!G288","v":0}]
[null,{"$f":"Dashboard!E289","v":0},{"$f":"Dashboard!F289","v":0},{"$f":"Dashboard!G289","v":0}]
[null,{"$f":"Dashboard!E290","v":0},{"$f":"Dashboard!F290","v":0},{"$f":"Dashboard!G290","v":0}]
[null,{"$f":"Dashboard!E291","v":0},{"$f":"Dashboard!F291","v":0},{"$f":"Dashboard!G291","v":0}]
[null,{"$f":"Dashboard!E292","v":0},{"$f":"Dashboard!F292","v":0},{"$f":"Dashboard!G292","v":0}]
[null,{"$f":"Dashboard!E293","v":0},{"$f":"Dashboard!F293","v":0},{"$f":"Dashboard!G293","v":0}]
[null,{"$f":"Dashboard!E294","v":0},{"$f":"Dashboard!F294","v":0},{"$f":"Dashboard!G294","v":0}]
[null,{"$f":"Dashboard!E295","v":0},{"$f":"Dashboard!F295","v":0},{"$f":"Dashboard!G295","v":0}]
[null,{"$f":"Dashboard!E296","v":0},{"$f":"Dashboard!F296","v":0},{"$f":"Dashboard!G296","v":0}]
[null,{"$f":"Dashboard!E297","v":0},{"$f":"Dashboard!F297","v":0},{"$f":"Dashboard!G297","v":0}]
[null,{"$f":"Dashboard!E298","v":0},{"$f":"Dashboard!F298","v":0},{"$f":"Dashboard!G298","v":0}]
[null,{"$f":"Dashboard!E299","v":0},{"$f":"Dashboard!F299","v":0},{"$f":"Dashboard!G299","v":0}]
[null,{"$f":"Dashboard!E300","v":0},{"$f":"Dashboard!F300","v":0},{"$f":"Dashboard!G300","v":0}]
[null,{"$f":"Dashboard!E301","v":0},{"$f":"Dashboard!F301","v":0},{"$f":"Dashboard!G301","v":0}]
[null,{"$f":"Dashboard!E302","v":0},{"$f":"Dashboard!F302","v":0},{"$f":"Dashboard!G302","v":0}]
[null,{"$f":"Dashboard!E303","v":0},{"$f":"Dashboard!F303","v":0},{"$f":"Dashboard!G303","v":0}]
[null,{"$f":"Dashboard!E304","v":0},{"$f":"Dashboard!F304","v":0},{"$f":"Dashboard!G304","v":0}]
[null,{"$f":"Dashboard!E305","v":0},{"$f":"Dashboard!F305","v":0},{"$f":"Dashboard!G305","v":0}]
[null,{"$f":"Dashboard!E306","v":0},{"$f":"Dashboard!F306","v":0},{"$f":"Dashboard!G306","v":0}]
[null,{"$f":"Dashboard!E307","v":0},{"$f":"Dashboard!F307","v":0},{"$f":"Dashboard!G307","v":0}]
[null,{"$f":"Dashboard!E308","v":0},{"$f":"Dashboard!F308","v":0},{"$f":"Dashboard!G308","v":0}]
[null,{"$f":"Dashboard!E309","v":0},{"$f":"Dashboard!F309","v":0},{"$f":"Dashboard!G309","v":0}]
[null,{"$f":"Dashboard!E310","v":0},{"$f":"Dashboard!F310","v":0},{"$f":"Dashboard!G310","v":0}]
[null,{"$f":"Dashboard!E311","v":0},{"$f":"Dashboard!F311","v":0},{"$f":"Dashboard!G311","v":0}]
[null,{"$f":"Dashboard!E312","v":0},{"$f":"Dashboard!F312","v":0},{"$f":"Dashboard!G312","v":0}]
[null,{"$f":"Dashboard!E313","v":0},{"$f":"Dashboard!F313","v":0},{"$f":"Dashboard!G313","v":0}]
[null,{"$f":"Dashboard!E314","v":0},{"$f":"Dashboard!F314","v":0},{"$f":"Dashboard!G314","v":0}]
[null,{"$f":"Dashboard!E315","v":0},{"$f":"Dashboard!F315","v":0},{"$f":"Dashboard!G315","v":0}]
[null,{"$f":"Dashboard!E316","v":0},{"$f":"Dashboard!F316","v":0},{"$f":"Dashboard!G316","v":0}]
[null,{"$f":"Dashboard!E317","v":0},{"$f":"Dashboard!F317","v":0},{"$f":"Dashboard!G317","v":0}]
[null,{"$f":"Dashboard!E318","v":0},{"$f":"Dashboard!F318","v":0},{"$f":"Dashboard!G318","v":0}]
[null,{"$f":"Dashboard!E319","v":0},{"$f":"Dashboard!F319","v":0},{"$f":"Dashboard!G319","v":0}]
[null,{"$f":"Dashboard!E320","v":0},{"$f":"Dashboard!F320","v":0},{"$f":"Dashboard!G320","v":0}]
[null,{"$f":"Dashboard!E321","v":0},{"$f":"Dashboard!F321","v":0},{"$f":"Dashboard!G321","v":0}]
[null,{"$f":"Dashboard!E322","v":0},{"$f":"Dashboard!F322","v":0},{"$f":"Dashboard!G322","v":0}]
[null,{"$f":"Dashboard!E323","v":0},{"$f":"Dashboard!F323","v":0},{"$f":"Dashboard!G323","v":0}]
[null,{"$f":"Dashboard!E324","v":0},{"$f":"Dashboard!F324","v":0},{"$f":"Dashboard!G324","v":0}]
[null,{"$f":"Dashboard!E325","v":0},{"$f":"Dashboard!F325","v":0},{"$f":"Dashboard!G325","v":0}]
[null,{"$f":"Dashboard!E326","v":0},{"$f":"Dashboard!F326","v":0},{"$f":"Dashboard!G326","v":0}]
[null,{"$f":"Dashboard!E327","v":0},{"$f":"Dashboard!F327","v":0},{"$f":"Dashboard!G327","v":0}]
[null,{"$f":"Dashboard!E328","v":0},{"$f":"Dashboard!F328","v":0},{"$f":"Dashboard!G328","v":0}]
[null,{"$f":"Dashboard!E329","v":0},{"$f":"Dashboard!F329","v":0},{"$f":"Dashboard!G329","v":0}]
[null,{"$f":"Dashboard!E330","v":0},{"$f":"Dashboard!F330","v":0},{"$f":"Dashboard!G330","v":0}]
[null,{"$f":"Dashboard!E331","v":0},{"$f":"Dashboard!F331","v":0},{"$f":"Dashboard!G331","v":0}]
[null,{"$f":"Dashboard!E332","v":0},{"$f":"Dashboard!F332","v":0},{"$f":"Dashboard!G332","v":0}]
[null,{"$f":"Dashboard!E333","v":0},{"$f":"Dashboard!F333","v":0},{"$f":"Dashboard!G333","v":0}]
[null,{"$f":"Dashboard!E334","v":0},{"$f":"Dashboard!F334","v":0},{"$f":"Dashboard!G334","v":0}]
[null,{"$f":"Dashboard!E335","v":0},{"$f":"Dashboard!F335","v":0},{"$f":"Dashboard!G335","v":0}]
[null,{"$f":"Dashboard!E336","v":0},{"$f":"Dashboard!F336","v":0},{"$f":"Dashboard!G336","v":0}]
[null,{"$f":"Dashboard!E337","v":0},{"$f":"Dashboard!F337","v":0},{"$f":"Dashboard!G337","v":0}]
[null,{"$f":"Dashboard!E338","v":0},{"$f":"Dashboard!F338","v":0},{"$f":"Dashboard!G338","v":0}]
[null,{"$f":"Dashboard!E339","v":0},{"$f":"Dashboard!F339","v":0},{"$f":"Dashboard!G339","v":0}]
[null,{"$f":"Dashboard!E340","v":0},{"$f":"Dashboard!F340","v":0},{"$f":"Dashboard!G340","v":0}]
[null,{"$f":"Dashboard!E341","v":0},{"$f":"Dashboard!F341","v":0},{"$f":"Dashboard!G341","v":0}]
[null,{"$f":"Dashboard!E342","v":0},{"$f":"Dashboard!F342","v":0},{"$f":"Dashboard!G342","v":0}]
[null,{"$f":"Dashboard!E343","v":0},{"$f":"Dashboard!F343","v":0},{"$f":"Dashboard!G343","v":0}]
[null,{"$f":"Dashboard!E344","v":0},{"$f":"Dashboard!F344","v":0},{"$f":"Dashboard!G344","v":0}]
[null,{"$f":"Dashboard!E345","v":0},{"$f":"Dashboard!F345","v":0},{"$f":"Dashboard!G345","v":0}]
[null,{"$f":"Dashboard!E346","v":0},{"$f":"Dashboard!F346","v":0},{"$f":"Dashboard!G346","v":0}]
[null,{"$f":"Dashboard!E347","v":0},{"$f":"Dashboard!F347","v":0},{"$f":"Dashboard!G347","v":0}]
[null,{"$f":"Dashboard!E348","v":0},{"$f":"Dashboard!F348","v":0},{"$f":"Dashboard!G348","v":0}]
[null,{"$f":"Dashboard!E349","v":0},{"$f":"Dashboard!F349","v":0},{"$f":"Dashboard!G349","v":0}]
[null,{"$f":"Dashboard!E350","v":0},{"$f":"Dashboard!F350","v":0},{"$f":"Dashboard!G350","v":0}]
[null,{"$f":"Dashboard!E351","v":0},{"$f":"Dashboard!F351","v":0},{"$f":"Dashboard!G351","v":0}]
[null,{"$f":"Dashboard!E352","v":0},{"$f":"Dashboard!F352","v":0},{"$f":"Dashboard!G352","v":0}]
[null,{"$f":"Dashboard!E353","v":0},{"$f":"Dashboard!F353","v":0},{"$f":"Dashboard!G353","v":0}]
[null,{"$f":"Dashboard!E354","v":0},{"$f":"Dashboard!F354","v":0},{"$f":"Dashboard!G354","v":0}]
[null,{"$f":"Dashboard!E355","v":0},{"$f":"Dashboard!F355","v":0},{"$f":"Dashboard!G355","v":0}]
[null,{"$f":"Dashboard!E356","v":0},{"$f":"Dashboard!F356","v":0},{"$f":"Dashboard!G356","v":0}]
[null,{"$f":"Dashboard!E357","v":0},{"$f":"Dashboard!F357","v":0},{"$f":"Dashboard!G357","v":0}]
[null,{"$f":"Dashboard!E358","v":0},{"$f":"Dashboard!F358","v":0},{"$f":"Dashboard!G358","v":0}]
[null,{"$f":"Dashboard!E359","v":0},{"$f":"Dashboard!F359","v":0},{"$f":"Dashboard!G359","v":0}]
[null,{"$f":"Dashboard!E360","v":0},{"$f":"Dashboard!F360","v":0},{"$f":"Dashboard!G360","v":0}]
[null,{"$f":"Dashboard!E361","v":0},{"$f":"Dashboard!F361","v":0},{"$f":"Dashboard!G361","v":0}]
[null,{"$f":"Dashboard!E362","v":0},{"$f":"Dashboard!F362","v":0},{"$f":"Dashboard!G362","v":0}]
[null,{"$f":"Dashboard!E363","v":0},{"$f":"Dashboard!F363","v":0},{"$f":"Dashboard!G363","v":0}]
[null,{"$f":"Dashboard!E364","v":0},{"$f":"Dashboard!F364","v":0},{"$f":"Dashboard!G364","v":0}]
[null,{"$f":"Dashboard!E365","v":0},{"$f":"Dashboard!F365","v":0},{"$f":"Dashboard!G365","v":0}]
[null,{"$f":"Dashboard!E366","v":0},{"$f":"Dashboard!F366","v":0},{"$f":"Dashboard!G366","v":0}]
[null,{"$f":"Dashboard!E367","v":0},{"$f":"Dashboard!F367","v":0},{"$f":"Dashboard!G367","v":0}]
[null,{"$f":"Dashboard!E368","v":0},{"$f":"Dashboard!F368","v":0},{"$f":"Dashboard!G368","v":0}]
[null,{"$f":"Dashboard!E369","v":0},{"$f":"Dashboard!F369","v":0},{"$f":"Dashboard!G369","v":0}]
[null,{"$f":"Dashboard!E370","v":0},{"$f":"Dashboard!F370","v":0},{"$f":"Dashboard!G370","v":0}]
[null,{"$f":"Dashboard!E371","v":0},{"$f":"Dashboard!F371","v":0},{"$f":"Dashboard!G371","v":0}]
[null,{"$f":"Dashboard!E372","v":0},{"$f":"Dashboard!F372","v":0},{"$f":"Dashboard!G372","v":0}]
[null,{"$f":"Dashboard!E373","v":0},{"$f":"Dashboard!F373","v":0},{"$f":"Dashboard!G373","v":0}]
[null,{"$f":"Dashboard!E374","v":0},{"$f":"Dashboard!F374","v":0},{"$f":"Dashboard!G374","v":0}]
[null,{"$f":"Dashboard!E375","v":0},{"$f":"Dashboard!F375","v":0},{"$f":"Dashboard!G375","v":0}]
[null,{"$f":"Dashboard!E376","v":0},{"$f":"Dashboard!F376","v":0},{"$f":"Dashboard!G376","v":0}]
[null,{"$f":"Dashboard!E377","v":0},{"$f":"Dashboard!F377","v":0},{"$f":"Dashboard!G377","v":0}]
[null,{"$f":"Dashboard!E378","v":0},{"$f":"Dashboard!F378","v":0},{"$f":"Dashboard!G378","v":0}]
[null,{"$f":"Dashboard!E379","v":0},{"$f":"Dashboard!F379","v":0},{"$f":"Dashboard!G379","v":0}]
[null,{"$f":"Dashboard!E380","v":0},{"$f":"Dashboard!F380","v":0},{"$f":"Dashboard!G380","v":0}]
[null,{"$f":"Dashboard!E381","v":0},{"$f":"Dashboard!F381","v":0},{"$f":"Dashboard!G381","v":0}]
[null,{"$f":"Dashboard!E382","v":0},{"$f":"Dashboard!F382","v":0},{"$f":"Dashboard!G382","v":0}]
[null,{"$f":"Dashboard!E383","v":0},{"$f":"Dashboard!F383","v":0},{"$f":"Dashboard!G383","v":0}]
[null,{"$f":"Dashboard!E384","v":0},{"$f":"Dashboard!F384","v":0},{"$f":"Dashboard!G384","v":0}]
[null,{"$f":"Dashboard!E385","v":0},{"$f":"Dashboard!F385","v":0},{"$f":"Dashboard!G385","v":0}]
[null,{"$f":"Dashboard!E386","v":0},{"$f":"Dashboard!F386","v":0},{"$f":"Dashboard!G386","v":0}]
[null,{"$f":"Dashboard!E387","v":0},{"$f":"Dashboard!F387","v":0},{"$f":"Dashboard!G387","v":0}]
[null,{"$f":"Dashboard!E388","v":0},{"$f":"Dashboard!F388","v":0},{"$f":"Dashboard!G388","v":0}]
[null,{"$f":"Dashboard!E389","v":0},{"$f":"Dashboard!F389","v":0},{"$f":"Dashboard!G389","v":0}]
[null,{"$f":"Dashboard!E390","v":0},{"$f":"Dashboard!F390","v":0},{"$f":"Dashboard!G390","v":0}]
[null,{"$f":"Dashboard!E391","v":0},{"$f":"Dashboard!F391","v":0},{"$f":"Dashboard!G391","v":0}]
[null,{"$f":"Dashboard!E392","v":0},{"$f":"Dashboard!F392","v":0},{"$f":"Dashboard!G392","v":0}]
[null,{"$f":"Dashboard!E393","v":0},{"$f":"Dashboard!F393","v":0},{"$f":"Dashboard!G393","v":0}]
[null,{"$f":"Dashboard!E394","v":0},{"$f":"Dashboard!F394","v":0},{"$f":"Dashboard!G394","v":0}]
[null,{"$f":"Dashboard!E395","v":0},{"$f":"Dashboard!F395","v":0},{"$f":"Dashboard!G395","v":0}]
[null,{"$f":"Dashboard!E396","v":0},{"$f":"Dashboard!F396","v":0},{"$f":"Dashboard!G396","v":0}]
[null,{"$f":"Dashboard!E397","v":0},{"$f":"Dashboard!F397","v":0},{"$f":"Dashboard!G397","v":0}]
[null,{"$f":"Dashboard!E398","v":0},{"$f":"Dashboard!F398","v":0},{"$f":"Dashboard!G398","v":0}]
[null,{"$f":"Dashboard!E399","v":0},{"$f":"Dashboard!F399","v":0},{"$f":"Dashboard!G399","v":0}]
[null,{"$f":"Dashboard!E400","v":0},{"$f":"Dashboard!F400","v":0},{"$f":"Dashboard!G400","v":0}]
[null,{"$f":"Dashboard!E401","v":0},{"$f":"Dashboard!F401","v":0},{"$f":"Dashboard!G401","v":0}]
[null,{"$f":"Dashboard!E402","v":0},{"$f":"Dashboard!F402","v":0},{"$f":"Dashboard!G402","v":0}]
[null,{"$f":"Dashboard!E403","v":0},{"$f":"Dashboard!F403","v":0},{"$f":"Dashboard!G403","v":0}]
[null,{"$f":"Dashboard!E404","v":0},{"$f":"Dashboard!F404","v":0},{"$f":"Dashboard!G404","v":0}]
[null,{"$f":"Dashboard!E405","v":0},{"$f":"Dashboard!F405","v":0},{"$f":"Dashboard!G405","v":0}]
[null,{"$f":"Dashboard!E406","v":0},{"$f":"Dashboard!F406","v":0},{"$f":"Dashboard!G406","v":0}]
[null,{"$f":"Dashboard!E407","v":0},{"$f":"Dashboard!F407","v":0},{"$f":"Dashboard!G407","v":0}]
[null,{"$f":"Dashboard!E408","v":0},{"$f":"Dashboard!F408","v":0},{"$f":"Dashboard!G408","v":0}]
[null,{"$f":"Dashboard!E409","v":0},{"$f":"Dashboard!F409","v":0},{"$f":"Dashboard!G409","v":0}]
[null,{"$f":"Dashboard!E410","v":0},{"$f":"Dashboard!F410","v":0},{"$f":"Dashboard!G410","v":0}]
[null,{"$f":"Dashboard!E411","v":0},{"$f":"Dashboard!F411","v":0},{"$f":"Dashboard!G411","v":0}]
[null,{"$f":"Dashboard!E412","v":0},{"$f":"Dashboard!F412","v":0},{"$f":"Dashboard!G412","v":0}]
[null,{"$f":"Dashboard!E413","v":0},{"$f":"Dashboard!F413","v":0},{"$f":"Dashboard!G413","v":0}]
[null,{"$f":"Dashboard!E414","v":0},{"$f":"Dashboard!F414","v":0},{"$f":"Dashboard!G414","v":0}]
[null,{"$f":"Dashboard!E415","v":0},{"$f":"Dashboard!F415","v":0},{"$f":"Dashboard!G415","v":0}]
[null,{"$f":"Dashboard!E416","v":0},{"$f":"Dashboard!F416","v":0},{"$f":"Dashboard!G416","v":0}]
[null,{"$f":"Dashboard!E417","v":0},{"$f":"Dashboard!F417","v":0},{"$f":"Dashboard!G417","v":0}]
[null,{"$f":"Dashboard!E418","v":0},{"$f":"Dashboard!F418","v":0},{"$f":"Dashboard!G418","v":0}]
[null,{"$f":"Dashboard!E419","v":0},{"$f":"Dashboard!F419","v":0},{"$f":"Dashboard!G419","v":0}]
[null,{"$f":"Dashboard!E420","v":0},{"$f":"Dashboard!F420","v":0},{"$f":"Dashboard!G420","v":0}]
[null,{"$f":"Dashboard!E421","v":0},{"$f":"Dashboard!F421","v":0},{"$f":"Dashboard!G421","v":0}]
[null,{"$f":"Dashboard!E422","v":0},{"$f":"Dashboard!F422","v":0},{"$f":"Dashboard!G422","v":0}]
[null,{"$f":"Dashboard!E423","v":0},{"$f":"Dashboard!F423","v":0},{"$f":"Dashboard!G423","v":0}]
[null,{"$f":"Dashboard!E424","v":0},{"$f":"Dashboard!F424","v":0},{"$f":"Dashboard!G424","v":0}]
[null,{"$f":"Dashboard!E425","v":0},{"$f":"Dashboard!F425","v":0},{"$f":"Dashboard!G425","v":0}]
[null,{"$f":"Dashboard!E426","v":0},{"$f":"Dashboard!F426","v":0},{"$f":"Dashboard!G426","v":0}]
[null,{"$f":"Dashboard!E427","v":0},{"$f":"Dashboard!F427","v":0},{"$f":"Dashboard!G427","v":0}]
[null,{"$f":"Dashboard!E428","v":0},{"$f":"Dashboard!F428","v":0},{"$f":"Dashboard!G428","v":0}]
[null,{"$f":"Dashboard!E429","v":0},{"$f":"Dashboard!F429","v":0},{"$f":"Dashboard!G429","v":0}]
[null,{"$f":"Dashboard!E430","v":0},{"$f":"Dashboard!F430","v":0},{"$f":"Dashboard!G430","v":0}]
[null,{"$f":"Dashboard!E431","v":0},{"$f":"Dashboard!F431","v":0},{"$f":"Dashboard!G431","v":0}]
[null,{"$f":"Dashboard!E432","v":0},{"$f":"Dashboard!F432","v":0},{"$f":"Dashboard!G432","v":0}]
[null,{"$f":"Dashboard!E433","v":0},{"$f":"Dashboard!F433","v":0},{"$f":"Dashboard!G433","v":0}]
[null,{"$f":"Dashboard!E434","v":0},{"$f":"Dashboard!F434","v":0},{"$f":"Dashboard!G434","v":0}]
[null,{"$f":"Dashboard!E435","v":0},{"$f":"Dashboard!F435","v":0},{"$f":"Dashboard!G435","v":0}]
[null,{"$f":"Dashboard!E436","v":0},{"$f":"Dashboard!F436","v":0},{"$f":"Dashboard!G436","v":0}]
[null,{"$f":"Dashboard!E437","v":0},{"$f":"Dashboard!F437","v":0},{"$f":"Dashboard!G437","v":0}]
[null,{"$f":"Dashboard!E438","v":0},{"$f":"Dashboard!F438","v":0},{"$f":"Dashboard!G438","v":0}]
[null,{"$f":"Dashboard!E439","v":0},{"$f":"Dashboard!F439","v":0},{"$f":"Dashboard!G439","v":0}]
[null,{"$f":"Dashboard!E440","v":0},{"$f":"Dashboard!F440","v":0},{"$f":"Dashboard!G440","v":0}]
[null,{"$f":"Dashboard!E441","v":0},{"$f":"Dashboard!F441","v":0},{"$f":"Dashboard!G441","v":0}]
[null,{"$f":"Dashboard!E442","v":0},{"$f":"Dashboard!F442","v":0},{"$f":"Dashboard!G442","v":0}]
[null,{"$f":"Dashboard!E443","v":0},{"$f":"Dashboard!F443","v":0},{"$f":"Dashboard!G443","v":0}]
[null,{"$f":"Dashboard!E444","v":0},{"$f":"Dashboard!F444","v":0},{"$f":"Dashboard!G444","v":0}]
[null,{"$f":"Dashboard!E445","v":0},{"$f":"Dashboard!F445","v":0},{"$f":"Dashboard!G445","v":0}]
[null,{"$f":"Dashboard!E446","v":0},{"$f":"Dashboard!F446","v":0},{"$f":"Dashboard!G446","v":0}]
[null,{"$f":"Dashboard!E447","v":0},{"$f":"Dashboard!F447","v":0},{"$f":"Dashboard!G447","v":0}]
[null,{"$f":"Dashboard!E448","v":0},{"$f":"Dashboard!F448","v":0},{"$f":"Dashboard!G448","v":0}]
[null,{"$f":"Dashboard!E449","v":0},{"$f":"Dashboard!F449","v":0},{"$f":"Dashboard!G449","v":0}]
[null,{"$f":"Dashboard!E450","v":0},{"$f":"Dashboard!F450","v":0},{"$f":"Dashboard!G450","v":0}]
[null,{"$f":"Dashboard!E451","v":0},{"$f":"Dashboard!F451","v":0},{"$f":"Dashboard!G451","v":0}]
[null,{"$f":"Dashboard!E452","v":0},{"$f":"Dashboard!F452","v":0},{"$f":"Dashboard!G452","v":0}]
[null,{"$f":"Dashboard!E453","v":0},{"$f":"Dashboard!F453","v":0},{"$f":"Dashboard!G453","v":0}]
[null,{"$f":"Dashboard!E454","v":0},{"$f":"Dashboard!F454","v":0},{"$f":"Dashboard!G454","v":0}]
[null,{"$f":"Dashboard!E455","v":0},{"$f":"Dashboard!F455","v":0},{"$f":"Dashboard!G455","v":0}]
[null,{"$f":"Dashboard!E456","v":0},{"$f":"Dashboard!F456","v":0},{"$f":"Dashboard!G456","v":0}]
[null,{"$f":"Dashboard!E457","v":0},{"$f":"Dashboard!F457","v":0},{"$f":"Dashboard!G457","v":0}]
[null,{"$f":"Dashboard!E458","v":0},{"$f":"Dashboard!F458","v":0},{"$f":"Dashboard!G458","v":0}]
[null,{"$f":"Dashboard!E459","v":0},{"$f":"Dashboard!F459","v":0},{"$f":"Dashboard!G459","v":0}]
[null,{"$f":"Dashboard!E460","v":0},{"$f":"Dashboard!F460","v":0},{"$f":"Dashboard!G460","v":0}]
[null,{"$f":"Dashboard!E461","v":0},{"$f":"Dashboard!F461","v":0},{"$f":"Dashboard!G461","v":0}]
[null,{"$f":"Dashboard!E462","v":0},{"$f":"Dashboard!F462","v":0},{"$f":"Dashboard!G462","v":0}]
[null,{"$f":"Dashboard!E463","v":0},{"$f":"Dashboard!F463","v":0},{"$f":"Dashboard!G463","v":0}]
[null,{"$f":"Dashboard!E464","v":0},{"$f":"Dashboard!F464","v":0},{"$f":"Dashboard!G464","v":0}]
[null,{"$f":"Dashboard!E465","v":0},{"$f":"Dashboard!F465","v":0},{"$f":"Dashboard!G465","v":0}]
[null,{"$f":"Dashboard!E466","v":0},{"$f":"Dashboard!F466","v":0},{"$f":"Dashboard!G466","v":0}]
[null,{"$f":"Dashboard!E467","v":0},{"$f":"Dashboard!F467","v":0},{"$f":"Dashboard!G467","v":0}]
[null,{"$f":"Dashboard!E468","v":0},{"$f":"Dashboard!F468","v":0},{"$f":"Dashboard!G468","v":0}]
[null,{"$f":"Dashboard!E469","v":0},{"$f":"Dashboard!F469","v":0},{"$f":"Dashboard!G469","v":0}]
[null,{"$f":"Dashboard!E470","v":0},{"$f":"Dashboard!F470","v":0},{"$f":"Dashboard!G470","v":0}]
[null,{"$f":"Dashboard!E471","v":0},{"$f":"Dashboard!F471","v":0},{"$f":"Dashboard!G471","v":0}]
[null,{"$f":"Dashboard!E472","v":0},{"$f":"Dashboard!F472","v":0},{"$f":"Dashboard!G472","v":0}]
[null,{"$f":"Dashboard!E473","v":0},{"$f":"Dashboard!F473","v":0},{"$f":"Dashboard!G473","v":0}]
[null,{"$f":"Dashboard!E474","v":0},{"$f":"Dashboard!F474","v":0},{"$f":"Dashboard!G474","v":0}]
[null,{"$f":"Dashboard!E475","v":0},{"$f":"Dashboard!F475","v":0},{"$f":"Dashboard!G475","v":0}]
[null,{"$f":"Dashboard!E476","v":0},{"$f":"Dashboard!F476","v":0},{"$f":"Dashboard!G476","v":0}]
[null,{"$f":"Dashboard!E477","v":0},{"$f":"Dashboard!F477","v":0},{"$f":"Dashboard!G477","v":0}]
[null,{"$f":"Dashboard!E478","v":0},{"$f":"Dashboard!F478","v":0},{"$f":"Dashboard!G478","v":0}]
[null,{"$f":"Dashboard!E479","v":0},{"$f":"Dashboard!F479","v":0},{"$f":"Dashboard!G479","v":0}]
[null,{"$f":"Dashboard!E480","v":0},{"$f":"Dashboard!F480","v":0},{"$f":"Dashboard!G480","v":0}]
[null,{"$f":"Dashboard!E481","v":0},{"$f":"Dashboard!F481","v":0},{"$f":"Dashboard!G481","v":0}]
[null,{"$f":"Dashboard!E482","v":0},{"$f":"Dashboard!F482","v":0},{"$f":"Dashboard!G482","v":0}]
[null,{"$f":"Dashboard!E483","v":0},{"$f":"Dashboard!F483","v":0},{"$f":"Dashboard!G483","v":0}]
[null,{"$f":"Dashboard!E484","v":0},{"$f":"Dashboard!F484","v":0},{"$f":"Dashboard!G484","v":0}]
[null,{"$f":"Dashboard!E485","v":0},{"$f":"Dashboard!F485","v":0},{"$f":"Dashboard!G485","v":0}]
[null,{"$f":"Dashboard!E486","v":0},{"$f":"Dashboard!F486","v":0},{"$f":"Dashboard!G486","v":0}]
[null,{"$f":"Dashboard!E487","v":0},{"$f":"Dashboard!F487","v":0},{"$f":"Dashboard!G487","v":0}]
[null,{"$f":"Dashboard!E488","v":0},{"$f":"Dashboard!F488","v":0},{"$f":"Dashboard!G488","v":0}]
[null,{"$f":"Dashboard!E489","v":0},{"$f":"Dashboard!F489","v":0},{"$f":"Dashboard!G489","v":0}]
[null,{"$f":"Dashboard!E490","v":0},{"$f":"Dashboard!F490","v":0},{"$f":"Dashboard!G490","v":0}]
[null,{"$f":"Dashboard!E491","v":0},{"$f":"Dashboard!F491","v":0},{"$f":"Dashboard!G491","v":0}]
[null,{"$f":"Dashboard!E492","v":0},{"$f":"Dashboard!F492","v":0},{"$f":"Dashboard!G492","v":0}]
[null,{"$f":"Dashboard!E493","v":0},{"$f":"Dashboard!F493","v":0},{"$f":"Dashboard!G493","v":0}]
[null,{"$f":"Dashboard!E494","v":0},{"$f":"Dashboard!F494","v":0},{"$f":"Dashboard!G494","v":0}]
[null,{"$f":"Dashboard!E495","v":0},{"$f":"Dashboard!F495","v":0},{"$f":"Dashboard!G495","v":0}]
[null,{"$f":"Dashboard!E496","v":0},{"$f":"Dashboard!F496","v":0},{"$f":"Dashboard!G496","v":0}]
[null,{"$f":"Dashboard!E497","v":0},{"$f":"Dashboard!F497","v":0},{"$f":"Dashboard!G497","v":0}]
[null,{"$f":"Dashboard!E498","v":0},{"$f":"Dashboard!F498","v":0},{"$f":"Dashboard!G498","v":0}]
[null,{"$f":"Dashboard!E499","v":0},{"$f":"Dashboard!F499","v":0},{"$f":"Dashboard!G499","v":0}]
[null,{"$f":"Dashboard!E500","v":0},{"$f":"Dashboard!F500","v":0},{"$f":"Dashboard!G500","v":0}]
[null,{"$f":"Dashboard!E501","v":0},{"$f":"Dashboard!F501","v":0},{"$f":"Dashboard!G501","v":0}]
[null,{"$f":"Dashboard!E502","v":0},{"$f":"Dashboard!F502","v":0},{"$f":"Dashboard!G502","v":0}]
[null,{"$f":"Dashboard!E503","v":0},{"$f":"Dashboard!F503","v":0},{"$f":"Dashboard!G503","v":0}]
[null,{"$f":"Dashboard!E504","v":0},{"$f":"Dashboard!F504","v":0},{"$f":"Dashboard!G504","v":0}]
[null,{"$f":"Dashboard!E505","v":0},{"$f":"Dashboard!F505","v":0},{"$f":"Dashboard!G505","v":0}]
[null,{"$f":"Dashboard!E506","v":0},{"$f":"Dashboard!F506","v":0},{"$f":"Dashboard!G506","v":0}]
[null,{"$f":"Dashboard!E507","v":0},{"$f":"Dashboard!F507","v":0},{"$f":"Dashboard!G507","v":0}]
[null,{"$f":"Dashboard!E508","v":0},{"$f":"Dashboard!F508","v":0},{"$f":"Dashboard!G508","v":0}]
[null,{"$f":"Dashboard!E509","v":0},{"$f":"Dashboard!F509","v":0},{"$f":"Dashboard!G509","v":0}]
[null,{"$f":"Dashboard!E510","v":0},{"$f":"Dashboard!F510","v":0},{"$f":"Dashboard!G510","v":0}]
[null,{"$f":"Dashboard!E511","v":0},{"$f":"Dashboard!F511","v":0},{"$f":"Dashboard!G511","v":0}]
[null,{"$f":"Dashboard!E512","v":0},{"$f":"Dashboard!F512","v":0},{"$f":"Dashboard!G512","v":0}]
[null,{"$f":"Dashboard!E513","v":0},{"$f":"Dashboard!F513","v":0},{"$f":"Dashboard!G513","v":0}]
[null,{"$f":"Dashboard!E514","v":0},{"$f":"Dashboard!F514","v":0},{"$f":"Dashboard!G514","v":0}]
[null,{"$f":"Dashboard!E515","v":0},{"$f":"Dashboard!F515","v":0},{"$f":"Dashboard!G515","v":0}]
[null,{"$f":"Dashboard!E516","v":0},{"$f":"Dashboard!F516","v":0},{"$f":"Dashboard!G516","v":0}]
[null,{"$f":"Dashboard!E517","v":0},{"$f":"Dashboard!F517","v":0},{"$f":"Dashboard!G517","v":0}]
[null,{"$f":"Dashboard!E518","v":0},{"$f":"Dashboard!F518","v":0},{"$f":"Dashboard!G518","v":0}]
[null,{"$f":"Dashboard!E519","v":0},{"$f":"Dashboard!F519","v":0},{"$f":"Dashboard!G519","v":0}]
[null,{"$f":"Dashboard!E520","v":0},{"$f":"Dashboard!F520","v":0},{"$f":"Dashboard!G520","v":0}]
[null,{"$f":"Dashboard!E521","v":0},{"$f":"Dashboard!F521","v":0},{"$f":"Dashboard!G521","v":0}]

{"sheet":"Report","index":3,"n_rows":20,"n_cols":7,"rows_kept":20,"cut":false,"hidden":false,"merged":[]}
[]
[]
[null,null,null,"The Royal Green Jackets Regimental Association "]
[null,null,null,"South East Kent Branch"]
[]
[]
[null,null,null,"MEMBERSHIP REPORT"]
[]
[null,null,null,null,null,"As of:","2020-02-06"]
[]
[]
[]
[]
[]
[]
[null,"Members",null,null,null,"Subscriptions"]
[]
[null,{"$f":"Dashboard!L2","v":"Associate:"},{"$f":"Dashboard!M2","v":5},null,null,{"$f":"Dashboard!N3","v":"2020 Fully Paid Members:"},{"$f":"Dashboard!O3","v":44}]
[null,{"$f":"Dashboard!L3","v":"Honorary:"},{"$f":"Dashboard!M3","v":3}]
[null,{"$f":"Dashboard!L4","v":"Total Members:"},{"$f":"Dashboard!M4","v":96}]

{"sheet":"Shop Sales","index":4,"n_rows":15,"n_cols":9,"rows_kept":15,"cut":false,"hidden":false,"merged":[[6,6,6,7],[7,6,7,7]]}
[]
[]
[null,"RGJRA (SEK) Shop Sales "]
[null,"Date:","2020-02-06"]
[]
[null,null,null,null,null,null,null,"Total Profit",{"$f":"SUM(I11:I10000)","v":12.899999999999999}]
[null,null,null,null,null,null,"Total Paid to Branch to Date"]
[null,null,null,null,null,null,"Total Outstanding"]
[]
[null,"#","Item","Qty","Price","Item Cost","P&P","PayPal Fee","Profit"]
[null,1,"Polo M",1,20,14.99,1.95,0.88,{"$f":"Table2[[#This Row],[Price]]-Table2[[#This Row],[Item Cost]]-Table2[[#This Row],[P&P]]-Table2[[#This Row],[PayPal Fee]]","v":2.1799999999999997}]
[null,2,"Polo M",1,20,14.99,1.95,0.88,{"$f":"Table2[[#This Row],[Price]]-Table2[[#This Row],[Item Cost]]-Table2[[#This Row],[P&P]]-Table2[[#This Row],[PayPal Fee]]","v":2.1799999999999997}]
[null,3,"Polo M",1,20,14.99,1.95,0.88,{"$f":"Table2[[#This Row],[Price]]-Table2[[#This Row],[Item Cost]]-Table2[[#This Row],[P&P]]-Table2[[#This Row],[PayPal Fee]]","v":2.1799999999999997}]
[null,4,"TShirt",1,18,10.99,1.95,0.88,{"$f":"Table2[[#This Row],[Price]]-Table2[[#This Row],[Item Cost]]-Table2[[#This Row],[P&P]]-Table2[[#This Row],[PayPal Fee]]","v":4.18}]
[null,5,"Polo M",1,20,14.99,1.95,0.88,{"$f":"Table2[[#This Row],[Price]]-Table2[[#This Row],[Item Cost]]-Table2[[#This Row],[P&P]]-Table2[[#This Row],[PayPal Fee]]","v":2.1799999999999997}]

{"sheet":"Sheet1","index":5,"n_rows":0,"n_cols":0,"rows_kept":0,"cut":false,"hidden":false,"merged":[]}

{"sheet":"Role","index":6,"n_rows":13,"n_cols":3,"rows_kept":13,"cut":false,"hidden":false,"merged":[]}
["President",null,"Polo M"]
["Chairman",null,"Polo L"]
["Secretary",null,"Hoodie"]
["Padre",null,"Tshirt"]
["Treasurer"]
["Entertainments"]
["Membership Coord"]
["Web Master"]
["DDC Memorials/Remembrance"]
["SSAFFA"]
["Member"]
["Associate Member"]
["Honorary Member"]